BEGIN:VCALENDAR
VERSION:2.0
PRODID:-//BBMRI-ERIC - ECPv6.1.3//NONSGML v1.0//EN
CALSCALE:GREGORIAN
METHOD:PUBLISH
X-ORIGINAL-URL:https://dev2.bbmri-eric.eu
X-WR-CALDESC:Events for BBMRI-ERIC
REFRESH-INTERVAL;VALUE=DURATION:PT1H
X-Robots-Tag:noindex
X-PUBLISHED-TTL:PT1H
BEGIN:VTIMEZONE
TZID:Europe/Paris
BEGIN:DAYLIGHT
TZOFFSETFROM:+0100
TZOFFSETTO:+0200
TZNAME:CEST
DTSTART:20210328T010000
END:DAYLIGHT
BEGIN:STANDARD
TZOFFSETFROM:+0200
TZOFFSETTO:+0100
TZNAME:CET
DTSTART:20211031T010000
END:STANDARD
END:VTIMEZONE
BEGIN:VEVENT
DTSTART;VALUE=DATE:20210920
DTEND;VALUE=DATE:20210925
DTSTAMP:20260423T141925
CREATED:20210726T123107Z
LAST-MODIFIED:20210726T123107Z
UID:47135-1632096000-1632527999@dev2.bbmri-eric.eu
SUMMARY:How to Operate a Biobank (Advanced)
DESCRIPTION:This course has been designed for all those who have already set up a biobank and want to operate a biobank sustainably successful. On the basis of lectures and various practical examples\, the participants learn how a quality management system in a biobank can be implemented or adapted and quality control and assurance can be improved. \nFurther course content is sample workflow advancement in a biobank through automation. Nowadays it is very important for the sustainability of biobanks to offer a modern portfolio of services. Therefore the students will gain insight into designing of a meaningful collection strategy and the implementation of additional services of a biobank. The indispensable topics data management and IT systems for biobanks will be taught through practical examples\, such as the development of URDs (user requirement documents) for biobanking software. For the sustainability of a modern biobank it is essential to know how a business plan can be developed.This course will also focus on the most important tools which should be included in a business plan.
URL:https://dev2.bbmri-eric.eu/events/how-to-operate-a-biobank-advanced/
LOCATION:MedUniGraz\, Neue Stiftingtalstraße 2/B/6\, Graz\, Steiermark\, 8010\, Austria
CATEGORIES:BBMRI Events,Training
END:VEVENT
BEGIN:VEVENT
DTSTART;TZID=Europe/Paris:20210922T170000
DTEND;TZID=Europe/Paris:20210922T180000
DTSTAMP:20260423T141925
CREATED:20210920T091950Z
LAST-MODIFIED:20210920T091950Z
UID:49194-1632330000-1632333600@dev2.bbmri-eric.eu
SUMMARY:BBMRI-ERIC in Satellite Session on Biobanking within UNGA76 Science Summit
DESCRIPTION:Join BBMRI-ERIC and our Nodes BBMRI.at\, BBMRI.it and IARC\, as well as the International Cancer Institute of Kenya\, for a special satellite session on Biobanking and the Sustainable Development Goals\, wtihin the UN 76th General Assembly. \nSpeakers:\nProf. Kurt Zatloukal\, M.D.\, Medical University Graz\, Austria\nDr. Zisis Kozlakidis\, PhD MBA FLS\, IACR / WHO\nProf. Jens K. Habermann\, M.D.\, Ph.D.\, BBMRI-ERIC\nProf. Dr. Marialuisa Lavitrano\, University Milano Bicocca\, Italy\nProf. Fredrick Chite Asirwa\, M.D.\, International Cancer Institute\, Kenya \nProf. Habermann’s presentation will highlight how BBMRI-ERIC supports SDG 3 Ensure healthy lives and promote well-being for all at all ages by enabling (i) access to over 600 biobanks in our biobank Directory hosting more than 2\,500 collections with estimated >100\,000\,000 samples and associated data\, (ii) how this is facilitated by current and prospect IT solutions\, (iii) how quality measures are implemented and further developed\, (iv) how our ELSI experts across Europe support research and guide on matters ranging from data protection to incidental findings\, and (v) how we position our community’s services and research together with our stakeholders and partners in the overall EU research landscape in order to advance and implement precision medicine while fostering efficient yet competitive\, cutting-edge and value generating research within Europe and across the globe. \nFind out more and view all abstracts here: https://unga76sciencesummit.sched.com/event/mF17/ref-bb22-biobanking-to-support-the-sdgs-convened-by-the-biobanking-and-biomolecular-resources-research-infrastructure-bbmri  \nAttendance is free. Register here: https://www.eventbrite.be/e/unga76-science-summit-tickets-158308010521 \n 
URL:https://dev2.bbmri-eric.eu/events/bbmri-eric-in-satellite-session-on-biobanking-within-unga76-science-summit/
LOCATION:Online
CATEGORIES:External Events,Webinar
ATTACH;FMTTYPE=image/png:https://dev2.bbmri-eric.eu/wp-content/uploads/2021_09_UNGA76_ScienceSummit.png
ORGANIZER;CN="United%20Nations":MAILTO:declan.kirrane@iscintelligence.com
END:VEVENT
END:VCALENDAR