BEGIN:VCALENDAR
VERSION:2.0
PRODID:-//BBMRI-ERIC - ECPv6.1.3//NONSGML v1.0//EN
CALSCALE:GREGORIAN
METHOD:PUBLISH
X-ORIGINAL-URL:https://dev2.bbmri-eric.eu
X-WR-CALDESC:Events for BBMRI-ERIC
REFRESH-INTERVAL;VALUE=DURATION:PT1H
X-Robots-Tag:noindex
X-PUBLISHED-TTL:PT1H
BEGIN:VTIMEZONE
TZID:Europe/Paris
BEGIN:DAYLIGHT
TZOFFSETFROM:+0100
TZOFFSETTO:+0200
TZNAME:CEST
DTSTART:20210328T010000
END:DAYLIGHT
BEGIN:STANDARD
TZOFFSETFROM:+0200
TZOFFSETTO:+0100
TZNAME:CET
DTSTART:20211031T010000
END:STANDARD
END:VTIMEZONE
BEGIN:VEVENT
DTSTART;VALUE=DATE:20211005
DTEND;VALUE=DATE:20211008
DTSTAMP:20260423T125758
CREATED:20210726T124440Z
LAST-MODIFIED:20210728T113834Z
UID:47144-1633392000-1633651199@dev2.bbmri-eric.eu
SUMMARY:Australia-Europe Symposium on Research Infrastructures
DESCRIPTION:
URL:https://dev2.bbmri-eric.eu/events/australia-europe-symposium-on-research-infrastructures/
LOCATION:Online
CATEGORIES:Conference,External Events
ATTACH;FMTTYPE=image/png:https://dev2.bbmri-eric.eu/wp-content/uploads/RI-VIS_Symposia_Save_The_Dates_2021_Aus_Twitter-e1627464188740.png
END:VEVENT
END:VCALENDAR