BEGIN:VCALENDAR
VERSION:2.0
PRODID:-//BBMRI-ERIC - ECPv6.1.3//NONSGML v1.0//EN
CALSCALE:GREGORIAN
METHOD:PUBLISH
X-WR-CALNAME:BBMRI-ERIC
X-ORIGINAL-URL:https://dev2.bbmri-eric.eu
X-WR-CALDESC:Events for BBMRI-ERIC
REFRESH-INTERVAL;VALUE=DURATION:PT1H
X-Robots-Tag:noindex
X-PUBLISHED-TTL:PT1H
BEGIN:VTIMEZONE
TZID:Europe/Paris
BEGIN:DAYLIGHT
TZOFFSETFROM:+0100
TZOFFSETTO:+0200
TZNAME:CEST
DTSTART:20210328T010000
END:DAYLIGHT
BEGIN:STANDARD
TZOFFSETFROM:+0200
TZOFFSETTO:+0100
TZNAME:CET
DTSTART:20211031T010000
END:STANDARD
END:VTIMEZONE
BEGIN:VEVENT
DTSTART;VALUE=DATE:20211027
DTEND;VALUE=DATE:20211030
DTSTAMP:20260423T125651
CREATED:20210913T120439Z
LAST-MODIFIED:20210913T120733Z
UID:48955-1635292800-1635551999@dev2.bbmri-eric.eu
SUMMARY:7th African Conference on One Health & Biosecurity
DESCRIPTION:The COVID-19 pandemic continues to demand our attention. It places a magnifying glass at our societies’ achievements and clarifies what works and does not work. It stimulated rapid responses from the scientific community for contributing to the acceleration of transnational research. It showcases\, yet again and to a global scale\, that disease does not know any boarders. Michaela Th. Mayrhofer\, BBMRI-ERIC’s Head of ELSI Services & Research\, will give a presentation that puts the focus on biobanking during pandemic times. Firstly\, it sets the scene with some examples from within the Pan-European Research Infrastructure BBMRI-ERIC and its global partners. Secondly\, it will draw conclusions as regards to the practice of biobanking\, data and sample quality\, findability of ressources and challenges for governance and the ethical\, legal and societal implications. \nRegister now for the GET Consortium’s 7th African Conference on One Health & Biosecurity here to hear this and many other valuable talks: https://www.getafrica.org/events/conference-2021/ \n 
URL:https://dev2.bbmri-eric.eu/events/7th-african-conference-on-one-health-biosecurity/
LOCATION:Lagos Civic Center\, Ozumba Mbadiwe Road\, Opposite 1004\, Victoria Island 100001\, Lagos\, Nigeria
CATEGORIES:Conference,External Events
ATTACH;FMTTYPE=image/png:https://dev2.bbmri-eric.eu/wp-content/uploads/2021_10_GETConsortium.png
END:VEVENT
BEGIN:VEVENT
DTSTART;TZID=Europe/Paris:20211029T140000
DTEND;TZID=Europe/Paris:20211029T160000
DTSTAMP:20260423T125651
CREATED:20210920T083330Z
LAST-MODIFIED:20220510T101242Z
UID:49188-1635516000-1635523200@dev2.bbmri-eric.eu
SUMMARY:EUCAN ELSI Webinar: International Data Sharing
DESCRIPTION:Join BBMRI-ERIC and other project partners from the EUCAN ELSI Collaboratory (EUCANCan\, euCanSHare\, CINECA\, iReceptor Plus\, EUCAN-Connect\, ReCoD-ID\, and EuCanImage) for a joint webinar about how fostering stakeholder engagement can improve transparency and accountability in international sharing of health data. \n The first part will include four 15-minute presentations and conclude with a Q&A. The second part will be dedicated to horizon scanning\, providing a space for researchers in the EUCAN ELSI projects to discuss a wide verity of themes concerning the future of international data sharing\, including ongoing barriers to be remover; future research that needs to be conducted; and affirmation of certain already existing frameworks. \nBBMRI-ERIC’s Michaela Th. Mayrhofer will give a talk entitled\, “A focus on the S in ELSI: societal engagement and social aspects of data sharing” \nAll are welcome. \n  \n 
URL:https://dev2.bbmri-eric.eu/events/eucan-elsi-webinar-international-data-sharing/
LOCATION:Online
CATEGORIES:External Events,Webinar
ATTACH;FMTTYPE=image/jpeg:https://dev2.bbmri-eric.eu/wp-content/uploads/2021_10_CINECA-webinar.jpg
ORGANIZER;CN="EUCAN%20ELSI%20Collaboratory":MAILTO:marta.lloret@ebi.ac.uk
END:VEVENT
END:VCALENDAR