BEGIN:VCALENDAR
VERSION:2.0
PRODID:-//BBMRI-ERIC - ECPv6.1.3//NONSGML v1.0//EN
CALSCALE:GREGORIAN
METHOD:PUBLISH
X-ORIGINAL-URL:https://dev2.bbmri-eric.eu
X-WR-CALDESC:Events for BBMRI-ERIC
REFRESH-INTERVAL;VALUE=DURATION:PT1H
X-Robots-Tag:noindex
X-PUBLISHED-TTL:PT1H
BEGIN:VTIMEZONE
TZID:Europe/Paris
BEGIN:DAYLIGHT
TZOFFSETFROM:+0100
TZOFFSETTO:+0200
TZNAME:CEST
DTSTART:20210328T010000
END:DAYLIGHT
BEGIN:STANDARD
TZOFFSETFROM:+0200
TZOFFSETTO:+0100
TZNAME:CET
DTSTART:20211031T010000
END:STANDARD
END:VTIMEZONE
BEGIN:VEVENT
DTSTART;TZID=Europe/Paris:20211209T093000
DTEND;TZID=Europe/Paris:20211209T170000
DTSTAMP:20260423T103642
CREATED:20211130T141117Z
LAST-MODIFIED:20211130T141117Z
UID:51966-1639042200-1639069200@dev2.bbmri-eric.eu
SUMMARY:GDPR Summit on Health Data Protection
DESCRIPTION:BBMRI-ERIC’s Head of ELSI Services & Research Michaela Th. Mayrhofer will be speaking on a panel entitled “Healthcare Research and its Codes of Conduct: Where Do We Stand?” from 4-5 pm CET at this summit on health data protection. \nSee the full agenda here: https://www.dropbox.com/s/rt78dhkc3hibqjh/GDPR%20SUMMIT%202021%20BX_Agenda.pdf?dl=0 \n  \nThe hybrid event will take place in person in Brussels and online. \nRegister here: https://www.clinical-gdpr-summit.com/events/gdpr-summit-2021-brussels
URL:https://dev2.bbmri-eric.eu/events/gdpr-summit-on-health-data-protection/
LOCATION:Online
CATEGORIES:External Events
END:VEVENT
BEGIN:VEVENT
DTSTART;TZID=Europe/Paris:20211209T140000
DTEND;TZID=Europe/Paris:20211211T121500
DTSTAMP:20260423T103642
CREATED:20210816T115449Z
LAST-MODIFIED:20210816T115449Z
UID:47915-1639058400-1639224900@dev2.bbmri-eric.eu
SUMMARY:EBRAINS Workshop: The Future of Medical Data Sharing in Clinical Neurosciences
DESCRIPTION:The HBP and EBRAINS together with the EAN invite the entire scientific community to join the forthcoming workshop on the Future of Medical Data Sharing in Clinical Neurosciences. This event aims at exposing and openly discussing all issues and challenges associated with data sharing in Europe\, from ethics to data safety and privacy\, including those specific to data federation\, such as the development and validation of federated algorithms. We propose a platform to disclose the preliminary results of these use-cases\, four brainstorming sessions involving EAN Scientific Panels\, demonstrations and a hands-on session\, which will highlight important aspects and issues of medical data sharing and offer participants the possibility to understand how to use the MIP for their own applications.\nMore information here. \nRegistration deadline: 25 November 2021\nRegistration is free but mandatory.
URL:https://dev2.bbmri-eric.eu/events/ebrains-workshop-the-future-of-medical-data-sharing-in-clinical-neurosciences/
LOCATION:Online
CATEGORIES:External Events,Training
ATTACH;FMTTYPE=image/jpeg:https://dev2.bbmri-eric.eu/wp-content/uploads/announcement_ean-ebrains-joint-workshop_210810_sa-image_Page_1-scaled.jpg
ORGANIZER;CN="HBP%2C%20EBRAINS%20%26%20the%20EAN":MAILTO:workshop.edu@humanbrainproject.eu
END:VEVENT
END:VCALENDAR