BEGIN:VCALENDAR
VERSION:2.0
PRODID:-//BBMRI-ERIC - ECPv6.1.3//NONSGML v1.0//EN
CALSCALE:GREGORIAN
METHOD:PUBLISH
X-WR-CALNAME:BBMRI-ERIC
X-ORIGINAL-URL:https://dev2.bbmri-eric.eu
X-WR-CALDESC:Events for BBMRI-ERIC
REFRESH-INTERVAL;VALUE=DURATION:PT1H
X-Robots-Tag:noindex
X-PUBLISHED-TTL:PT1H
BEGIN:VTIMEZONE
TZID:Europe/Paris
BEGIN:DAYLIGHT
TZOFFSETFROM:+0100
TZOFFSETTO:+0200
TZNAME:CEST
DTSTART:20220327T010000
END:DAYLIGHT
BEGIN:STANDARD
TZOFFSETFROM:+0200
TZOFFSETTO:+0100
TZNAME:CET
DTSTART:20221030T010000
END:STANDARD
END:VTIMEZONE
BEGIN:VEVENT
DTSTART;TZID=Europe/Paris:20220117T100000
DTEND;TZID=Europe/Paris:20220117T180000
DTSTAMP:20260421T092533
CREATED:20211210T095027Z
LAST-MODIFIED:20211210T095027Z
UID:52278-1642413600-1642442400@dev2.bbmri-eric.eu
SUMMARY:RI-VIS Final Meeting
DESCRIPTION:In this one-day online event you can find out about key outputs of the project and how you can benefit from them. Hear from our work package leaders who have managed the project\, from International Symposia and Whitepapers to ARIS Sitebuilder and the Communications Toolkit. In addition\, the meeting will cover a range of kickstarter projects\, a panel discussion and social networking session! \nRegister here: https://ri-vis.eu/events/ri-vis-final-meeting/
URL:https://dev2.bbmri-eric.eu/events/ri-vis-final-meeting/
LOCATION:Online
CATEGORIES:External Events,Projects
ATTACH;FMTTYPE=image/png:https://dev2.bbmri-eric.eu/wp-content/uploads/RI-VIS-logo-full-size-white-background-042019-e1643274325815.png
END:VEVENT
END:VCALENDAR