BEGIN:VCALENDAR
VERSION:2.0
PRODID:-//BBMRI-ERIC - ECPv6.1.3//NONSGML v1.0//EN
CALSCALE:GREGORIAN
METHOD:PUBLISH
X-ORIGINAL-URL:https://dev2.bbmri-eric.eu
X-WR-CALDESC:Events for BBMRI-ERIC
REFRESH-INTERVAL;VALUE=DURATION:PT1H
X-Robots-Tag:noindex
X-PUBLISHED-TTL:PT1H
BEGIN:VTIMEZONE
TZID:Europe/Paris
BEGIN:DAYLIGHT
TZOFFSETFROM:+0100
TZOFFSETTO:+0200
TZNAME:CEST
DTSTART:20220327T010000
END:DAYLIGHT
BEGIN:STANDARD
TZOFFSETFROM:+0200
TZOFFSETTO:+0100
TZNAME:CET
DTSTART:20221030T010000
END:STANDARD
END:VTIMEZONE
BEGIN:VEVENT
DTSTART;VALUE=DATE:20220322
DTEND;VALUE=DATE:20220324
DTSTAMP:20260421T062216
CREATED:20220121T131903Z
LAST-MODIFIED:20220121T132040Z
UID:53692-1647907200-1648079999@dev2.bbmri-eric.eu
SUMMARY:EOSC-Life 3rd Annual General Meeting
DESCRIPTION:The EOSC-Life project will present the results and achievements from all the work packages at the three-year point of the project at the 3rd AGM. \nThe first day is intended as an internal meeting for the consortium only. The second day is open for participants from other clusters or stakeholders and will end with a panel discussion. \nDraft Agenda: available here \nOnline platform: Zoom (dial in details see Draft Agenda and confirmation email) \nContacts:\nProgramme: Friederike Schmidt-Tremmel friederike.schmidt-tremmel@elixir-europe.org\nRegistration: Dana Cernoskova dana@scientifika.eu \nRegister via Eventscase here by 18 Feb 2022. \n**Note: May we ask you to please confirm your attendance before the 18 of February 2022. We are not asking you to decide now if you are going to join the face-to face meeting or online but we would ask you to please indicate your preference. You will be able to change that until the 18 of February at which point we will need to inform the hotel about numbers. \n  \n\n\n\nFor face-to face participants:\n\nVenue: NHOW Brussels Bloom hotel. Rue Royale 250\, 1210 Bruxelles \nThe Accommodation booking: \nTo reserve the accommodation in the NHOW hotel Brussels Bloom\, please fill in the registration; more instructions will be provided in the confirmation email. \nPrice for a single room is 140 EUR per person\, including buffet breakfast and VAT. \nThe price does not include city tax. \n  \n\nFor Virtual participants a Zoom link will be available in the agenda closer to the meeting.
URL:https://dev2.bbmri-eric.eu/events/eosc-life-3rd-annual-general-meeting/
CATEGORIES:External Events,Projects
ATTACH;FMTTYPE=image/png:https://dev2.bbmri-eric.eu/wp-content/uploads/3rd-AGM_Graphic.png
END:VEVENT
END:VCALENDAR