BEGIN:VCALENDAR
VERSION:2.0
PRODID:-//BBMRI-ERIC - ECPv6.1.3//NONSGML v1.0//EN
CALSCALE:GREGORIAN
METHOD:PUBLISH
X-WR-CALNAME:BBMRI-ERIC
X-ORIGINAL-URL:https://dev2.bbmri-eric.eu
X-WR-CALDESC:Events for BBMRI-ERIC
REFRESH-INTERVAL;VALUE=DURATION:PT1H
X-Robots-Tag:noindex
X-PUBLISHED-TTL:PT1H
BEGIN:VTIMEZONE
TZID:Europe/Paris
BEGIN:DAYLIGHT
TZOFFSETFROM:+0100
TZOFFSETTO:+0200
TZNAME:CEST
DTSTART:20220327T010000
END:DAYLIGHT
BEGIN:STANDARD
TZOFFSETFROM:+0200
TZOFFSETTO:+0100
TZNAME:CET
DTSTART:20221030T010000
END:STANDARD
END:VTIMEZONE
BEGIN:VEVENT
DTSTART;TZID=Europe/Paris:20220524T140000
DTEND;TZID=Europe/Paris:20220524T150000
DTSTAMP:20260421T034108
CREATED:20220502T142910Z
LAST-MODIFIED:20220502T143959Z
UID:56969-1653400800-1653404400@dev2.bbmri-eric.eu
SUMMARY:ConcePTION European Breast Milk Collection: Supporting research on medicine safety in breastfeeding
DESCRIPTION:Join our webinar presenting the ConcePTION European Breast Milk Collection. The Collection is supported by both public and private partners\, including the Biobanking and BioMolecular resources Research Infrastructure\, BBMRI-ERIC.
URL:https://dev2.bbmri-eric.eu/events/conception-european-breast-milk-collection-supporting-research-on-medicine-safety-in-breastfeeding/
CATEGORIES:Webinar
END:VEVENT
END:VCALENDAR