BEGIN:VCALENDAR
VERSION:2.0
PRODID:-//BBMRI-ERIC - ECPv6.1.3//NONSGML v1.0//EN
CALSCALE:GREGORIAN
METHOD:PUBLISH
X-WR-CALNAME:BBMRI-ERIC
X-ORIGINAL-URL:https://dev2.bbmri-eric.eu
X-WR-CALDESC:Events for BBMRI-ERIC
REFRESH-INTERVAL;VALUE=DURATION:PT1H
X-Robots-Tag:noindex
X-PUBLISHED-TTL:PT1H
BEGIN:VTIMEZONE
TZID:Europe/Paris
BEGIN:DAYLIGHT
TZOFFSETFROM:+0100
TZOFFSETTO:+0200
TZNAME:CEST
DTSTART:20220327T010000
END:DAYLIGHT
BEGIN:STANDARD
TZOFFSETFROM:+0200
TZOFFSETTO:+0100
TZNAME:CET
DTSTART:20221030T010000
END:STANDARD
END:VTIMEZONE
BEGIN:VEVENT
DTSTART;VALUE=DATE:20220711
DTEND;VALUE=DATE:20220716
DTSTAMP:20260421T010832
CREATED:20220126T103932Z
LAST-MODIFIED:20220126T104241Z
UID:53897-1657497600-1657929599@dev2.bbmri-eric.eu
SUMMARY:Radboud Summer School: Towards Individualized Care: Sex & Gender Perspectives in Health
DESCRIPTION:Research is increasingly showing the impact of sex and gender on health and care. Ignoring sex and gender can lead to reduced access to healthcare\, delayed and overall suboptimal treatment and worse population health. Sex and gender impact basic research\, clinical practice and public health. \nThis course is a full immersion interdisciplinary experience in sex- and gender-sensitive health. \nDate: 11 – 15 July 2022\nEarly bird fee: €450 or €375 (deadline 1 April 2022)\nRegular fee: €500\nApplication deadline: 1 June 2022 \nCourse Leader\nSabine Oertelt-PrigioneProfessor (Strategic Chair) of Gender in Primary and Transmural CareDepartment of Primary and Community CareRadboudumc \nLearning Outcomes\nAfter this course you are able to: \n\nUnderstand the concepts of sex and gender and their impact on health.\nIdentify how sex and gender affect your own research/health care practice.\nApply concepts of sex and gender analysis to health (care) problems.>\nCritically reflect on your role as a professional towards sex and gender sensitive healthcare.\n\nLevel of participant\n\nMaster\nPhD\nPost-doc\nProfessional\n\nRead more and apply here: https://www.ru.nl/radboudsummerschool/courses/2022/towards-individualized-care-sex-gender/
URL:https://dev2.bbmri-eric.eu/events/radboud-summer-school-towards-individualized-care-sex-gender-perspectives-in-health/
LOCATION:Radboud Summer School\, Houtlaan 4\, Nijmegen\, 6525 XZ\, Netherlands
CATEGORIES:External Events,Seminar
END:VEVENT
END:VCALENDAR