BEGIN:VCALENDAR
VERSION:2.0
PRODID:-//BBMRI-ERIC - ECPv6.1.3//NONSGML v1.0//EN
CALSCALE:GREGORIAN
METHOD:PUBLISH
X-WR-CALNAME:BBMRI-ERIC
X-ORIGINAL-URL:https://dev2.bbmri-eric.eu
X-WR-CALDESC:Events for BBMRI-ERIC
REFRESH-INTERVAL;VALUE=DURATION:PT1H
X-Robots-Tag:noindex
X-PUBLISHED-TTL:PT1H
BEGIN:VTIMEZONE
TZID:Europe/Paris
BEGIN:DAYLIGHT
TZOFFSETFROM:+0100
TZOFFSETTO:+0200
TZNAME:CEST
DTSTART:20220327T010000
END:DAYLIGHT
BEGIN:STANDARD
TZOFFSETFROM:+0200
TZOFFSETTO:+0100
TZNAME:CET
DTSTART:20221030T010000
END:STANDARD
END:VTIMEZONE
BEGIN:VEVENT
DTSTART;VALUE=DATE:20220907
DTEND;VALUE=DATE:20220910
DTSTAMP:20260420T222607
CREATED:20220822T134238Z
LAST-MODIFIED:20220822T140830Z
UID:61608-1662508800-1662767999@dev2.bbmri-eric.eu
SUMMARY:Integromed Conference and ICG-17 Event
DESCRIPTION:Latvian Biomedical Research and Study Centre invites you to virtually attend the INTEGROMED project conference that is happening together with the ICG-17 event from 7th to 9th September! The conference includes sessions about the microbiome\, multi-omics\, precision medicine\, biobanking\, and more! The full agenda and application form can be found here: https://integromed.net/events/integromed-conference-8-9-september-riga/
URL:https://dev2.bbmri-eric.eu/events/integromed-conference-and-icg-17-event/
LOCATION:Park Inn by Radisson\, Riga\, Park Inn by Radisson\, Riga\, Latvia
END:VEVENT
END:VCALENDAR