BEGIN:VCALENDAR
VERSION:2.0
PRODID:-//BBMRI-ERIC - ECPv6.1.3//NONSGML v1.0//EN
CALSCALE:GREGORIAN
METHOD:PUBLISH
X-WR-CALNAME:BBMRI-ERIC
X-ORIGINAL-URL:https://dev2.bbmri-eric.eu
X-WR-CALDESC:Events for BBMRI-ERIC
REFRESH-INTERVAL;VALUE=DURATION:PT1H
X-Robots-Tag:noindex
X-PUBLISHED-TTL:PT1H
BEGIN:VTIMEZONE
TZID:Europe/Paris
BEGIN:DAYLIGHT
TZOFFSETFROM:+0100
TZOFFSETTO:+0200
TZNAME:CEST
DTSTART:20220327T010000
END:DAYLIGHT
BEGIN:STANDARD
TZOFFSETFROM:+0200
TZOFFSETTO:+0100
TZNAME:CET
DTSTART:20221030T010000
END:STANDARD
END:VTIMEZONE
BEGIN:VEVENT
DTSTART;VALUE=DATE:20220928
DTEND;VALUE=DATE:20221001
DTSTAMP:20260420T205813
CREATED:20220902T091557Z
LAST-MODIFIED:20220902T091557Z
UID:62084-1664323200-1664582399@dev2.bbmri-eric.eu
SUMMARY:PORT for Health: Oncology 2022 Conference
DESCRIPTION:PORT Polish Center for Technology Development in Wrocław\, Poland\, the headquarters of the BBMRI.pl National Node and BBMRI.pl Consortium Leader\, invites you to attend the international conference PORT for Health: Oncology.
URL:https://dev2.bbmri-eric.eu/events/port-for-health-oncology-2022-conference/
LOCATION:Łukasiewicz – PORT Polish Center for Technology Development\, 147 Stabłowicka Street\, Wroclaw\, 54-066\, Poland
CATEGORIES:Conference
END:VEVENT
END:VCALENDAR