BEGIN:VCALENDAR
VERSION:2.0
PRODID:-//BBMRI-ERIC - ECPv6.1.3//NONSGML v1.0//EN
CALSCALE:GREGORIAN
METHOD:PUBLISH
X-WR-CALNAME:BBMRI-ERIC
X-ORIGINAL-URL:https://dev2.bbmri-eric.eu
X-WR-CALDESC:Events for BBMRI-ERIC
REFRESH-INTERVAL;VALUE=DURATION:PT1H
X-Robots-Tag:noindex
X-PUBLISHED-TTL:PT1H
BEGIN:VTIMEZONE
TZID:Europe/Paris
BEGIN:DAYLIGHT
TZOFFSETFROM:+0100
TZOFFSETTO:+0200
TZNAME:CEST
DTSTART:20230326T010000
END:DAYLIGHT
BEGIN:STANDARD
TZOFFSETFROM:+0200
TZOFFSETTO:+0100
TZNAME:CET
DTSTART:20231029T010000
END:STANDARD
END:VTIMEZONE
BEGIN:VEVENT
DTSTART;TZID=Europe/Paris:20230208T170000
DTEND;TZID=Europe/Paris:20230208T180000
DTSTAMP:20260420T162415
CREATED:20230127T080022Z
LAST-MODIFIED:20230127T080022Z
UID:67527-1675875600-1675879200@dev2.bbmri-eric.eu
SUMMARY:Webinar: Biobanks and scientific research - scientific opportunities and challenges for privacy
DESCRIPTION:What regulatory\, privacy\, and secondary use aspects due researchers need to consider when using patient data for research purposes? \nIn this online panel discussion (held in Italian)\, speakers Dr. Ilaria Anna Colussi (BBMRI-ERIC – Data Protection Specialist)\, Laura Liguori (Portolano Cavallo Partner) and Elisa Stefanini (Portolano Cavallo Partner) address the main challenges researchers are facing regarding sample biology on the European and Italian levels. \nDate: 8 February 2023\, 5 pm (CET) \nRegister here \nShare via Twitter \nShare via LinkedIn
URL:https://dev2.bbmri-eric.eu/events/webinar-biobanks-and-scientific-research-scientific-opportunities-and-challenges-for-privacy/
LOCATION:Online
CATEGORIES:Webinar
ATTACH;FMTTYPE=image/png:https://dev2.bbmri-eric.eu/wp-content/uploads/Ilaria_Colussi_8Feb2023-e1674731875551.png
END:VEVENT
END:VCALENDAR