BEGIN:VCALENDAR
VERSION:2.0
PRODID:-//BBMRI-ERIC - ECPv6.1.3//NONSGML v1.0//EN
CALSCALE:GREGORIAN
METHOD:PUBLISH
X-WR-CALNAME:BBMRI-ERIC
X-ORIGINAL-URL:https://dev2.bbmri-eric.eu
X-WR-CALDESC:Events for BBMRI-ERIC
REFRESH-INTERVAL;VALUE=DURATION:PT1H
X-Robots-Tag:noindex
X-PUBLISHED-TTL:PT1H
BEGIN:VTIMEZONE
TZID:Europe/London
BEGIN:DAYLIGHT
TZOFFSETFROM:+0000
TZOFFSETTO:+0100
TZNAME:BST
DTSTART:20230326T010000
END:DAYLIGHT
BEGIN:STANDARD
TZOFFSETFROM:+0100
TZOFFSETTO:+0000
TZNAME:GMT
DTSTART:20231029T010000
END:STANDARD
END:VTIMEZONE
BEGIN:VEVENT
DTSTART;TZID=Europe/London:20230209T140000
DTEND;TZID=Europe/London:20230209T150000
DTSTAMP:20260420T151242
CREATED:20230127T075940Z
LAST-MODIFIED:20230127T075940Z
UID:67524-1675951200-1675954800@dev2.bbmri-eric.eu
SUMMARY:Webinar: The case of data reuse - ethical\, legal\, and societal issues in international genomic data access and sharing
DESCRIPTION:Health data collected in cohort studies help researchers generate knowledge generation and advance biomedical research. But what happens when these data are used for something other than the initial purpose? \nIn this webinar\, BBMRI social scientist Dr. Melanie Goisauf and health lawyer Emmanuelle Rial-Sebbag address  ethical\, legal\, and societal questions regarding the sensitivity of genomic data sourced from vulnerable and ethnic groups\, such as African genetic data and material. \nDate: 9 February 2023\, 2-3 p.m. (UTC) \nOnline via Zoom \nRegistration link \nThe speakers will address challenges associated with the reuse of health/genomic data in CINECA from the ELSI perspective and the FAIR principles\, highlighting GDPR provisions and their interpretations\, national laws\, relevant literature\, and outcomes of recent stakeholder engagement workshops.
URL:https://dev2.bbmri-eric.eu/events/webinar-the-case-of-data-reuse-ethical-legal-and-societal-issues-in-international-genomic-data-access-and-sharing/
LOCATION:Online
CATEGORIES:Webinar
ATTACH;FMTTYPE=image/png:https://dev2.bbmri-eric.eu/wp-content/uploads/Webinar_9Feb2023.png
END:VEVENT
END:VCALENDAR