BEGIN:VCALENDAR
VERSION:2.0
PRODID:-//BBMRI-ERIC - ECPv6.1.3//NONSGML v1.0//EN
CALSCALE:GREGORIAN
METHOD:PUBLISH
X-ORIGINAL-URL:https://dev2.bbmri-eric.eu
X-WR-CALDESC:Events for BBMRI-ERIC
REFRESH-INTERVAL;VALUE=DURATION:PT1H
X-Robots-Tag:noindex
X-PUBLISHED-TTL:PT1H
BEGIN:VTIMEZONE
TZID:Europe/Paris
BEGIN:DAYLIGHT
TZOFFSETFROM:+0100
TZOFFSETTO:+0200
TZNAME:CEST
DTSTART:20220327T010000
END:DAYLIGHT
BEGIN:STANDARD
TZOFFSETFROM:+0200
TZOFFSETTO:+0100
TZNAME:CET
DTSTART:20221030T010000
END:STANDARD
END:VTIMEZONE
BEGIN:VEVENT
DTSTART;TZID=Europe/Paris:20221115T150000
DTEND;TZID=Europe/Paris:20221115T160000
DTSTAMP:20260420T220656
CREATED:20221019T083118Z
LAST-MODIFIED:20221107T105314Z
UID:64084-1668524400-1668528000@dev2.bbmri-eric.eu
SUMMARY:Ethics of AI in Imaging: Ethical and Societal Implications
DESCRIPTION:Speakers: Melanie Goisauf and Mónica Cano Abadía (BBMRI-ERIC) \nArtificial Intelligence (AI) applications in medicine are hoped to improve healthcare and to advance health equity. While the technology carries the potential to improve health services\, the ethical and societal implications need to be carefully considered to avoid harmful consequences for individuals and groups\, especially for the most vulnerable. It is therefore inevitable to identify what types of ethical issues are raised by AI\, and to analyse how these issues are tackled in biomedical research. This webinar gives an overview of the results of a comprehensive and systematic review of academic literature as well as workshop outcomes. We will problematise approaches such as ‘trustworthy AI’ and ‘explainable AI’ that shape the ethics discourse on AI. The webinar concludes with a reflection on the topics identified that shape the understanding of ‘Ethics of AI’ and the gaps in the discourse.  \nRegister here: https://cesnet.zoom.us/webinar/register/WN_u_wq99pSTfm7Ql3PfXdnFQ \nThis webinar is funded within BIG PICTURE\, projects that have received funding from the Innovative Medicines Initiative 2 Joint Undertaking under grant agreement No 945358. 
URL:https://dev2.bbmri-eric.eu/events/ethics-of-ai-in-imaging-ethical-and-societal-implications/
LOCATION:Online
CATEGORIES:BBMRI Events,Webinar
ATTACH;FMTTYPE=image/jpeg:https://dev2.bbmri-eric.eu/wp-content/uploads/Webinar-intro-slides-e1667818388651.jpg
ORGANIZER;CN="BBMRI-ERIC":MAILTO:contact@bbmri-eric.eu
END:VEVENT
END:VCALENDAR