BEGIN:VCALENDAR
VERSION:2.0
PRODID:-//BBMRI-ERIC - ECPv6.1.3//NONSGML v1.0//EN
CALSCALE:GREGORIAN
METHOD:PUBLISH
X-WR-CALNAME:BBMRI-ERIC
X-ORIGINAL-URL:https://dev2.bbmri-eric.eu
X-WR-CALDESC:Events for BBMRI-ERIC
REFRESH-INTERVAL;VALUE=DURATION:PT1H
X-Robots-Tag:noindex
X-PUBLISHED-TTL:PT1H
BEGIN:VTIMEZONE
TZID:Europe/Paris
BEGIN:DAYLIGHT
TZOFFSETFROM:+0100
TZOFFSETTO:+0200
TZNAME:CEST
DTSTART:20210328T010000
END:DAYLIGHT
BEGIN:STANDARD
TZOFFSETFROM:+0200
TZOFFSETTO:+0100
TZNAME:CET
DTSTART:20211031T010000
END:STANDARD
END:VTIMEZONE
BEGIN:VEVENT
DTSTART;TZID=Europe/Paris:20210913T140000
DTEND;TZID=Europe/Paris:20210913T153000
DTSTAMP:20260423T175245
CREATED:20210817T061928Z
LAST-MODIFIED:20211105T105615Z
UID:47949-1631541600-1631547000@dev2.bbmri-eric.eu
SUMMARY:Webinar: New ethical appraisal process for Horizon Europe. Key changes and expectations
DESCRIPTION:Speaker: Lisa Diependaele (Policy Officer – European Commission) \nFor all activities funded by the EU\, the ethical dimension is an integral part of research from beginning to end\, and ethical compliance is seen as pivotal to achieve real research excellence. Hence\, in addition to the scientific evaluation focusing on the scientific merit\, the quality of the management\, and the potential impact\, the Ethics Appraisal ensures that all research activities carried out under Horizon Europe are conducted in compliance with fundamental ethical principles. \nThis webinar will provide an overview of the Ethics Appraisal process for Horizon Europe\, the ethics issues that are evaluated during this procedure\, and offer general guidance on how to prepare the Ethics-Self-Assessment that has to be included in each application for funding. \n  \nPlease find the recording here. \nDownload a PDF of the presentation here. \n  \nDisclaimer: The ethics issues raised by activities proposed in applications submitted under Horizon Europe Calls and Programs must be assessed individually. The guidance offered during this webinar cannot anticipate any outcome of the ethics appraisal for any specific application. It is quite plausible that proposed activities on very similar topics or involving similar techniques are assessed differently\, in terms of the ethical issues raised\, their seriousness and/or complexity\, and how these ought to be addressed. The general guidance offered during this webinar therefore cannot create any new obligations on the European Commission or its Executive Agencies\, nor can the European Commission or any person acting on their behalf be made responsible for the use made of it.
URL:https://dev2.bbmri-eric.eu/events/webinar-new-ethical-appraisal-process-for-horizon-europe-key-changes-and-expectations/
LOCATION:Online
CATEGORIES:BBMRI Events,Webinar
ATTACH;FMTTYPE=image/jpeg:https://dev2.bbmri-eric.eu/wp-content/uploads/BBMRI-ERIC-ELSI-Webinar-Visual-v03-201808304-e1629189899710.jpg
ORGANIZER;CN="BBMRI-ERIC":MAILTO:contact@bbmri-eric.eu
END:VEVENT
BEGIN:VEVENT
DTSTART;TZID=Europe/Paris:20210922T170000
DTEND;TZID=Europe/Paris:20210922T180000
DTSTAMP:20260423T175245
CREATED:20210920T091950Z
LAST-MODIFIED:20210920T091950Z
UID:49194-1632330000-1632333600@dev2.bbmri-eric.eu
SUMMARY:BBMRI-ERIC in Satellite Session on Biobanking within UNGA76 Science Summit
DESCRIPTION:Join BBMRI-ERIC and our Nodes BBMRI.at\, BBMRI.it and IARC\, as well as the International Cancer Institute of Kenya\, for a special satellite session on Biobanking and the Sustainable Development Goals\, wtihin the UN 76th General Assembly. \nSpeakers:\nProf. Kurt Zatloukal\, M.D.\, Medical University Graz\, Austria\nDr. Zisis Kozlakidis\, PhD MBA FLS\, IACR / WHO\nProf. Jens K. Habermann\, M.D.\, Ph.D.\, BBMRI-ERIC\nProf. Dr. Marialuisa Lavitrano\, University Milano Bicocca\, Italy\nProf. Fredrick Chite Asirwa\, M.D.\, International Cancer Institute\, Kenya \nProf. Habermann’s presentation will highlight how BBMRI-ERIC supports SDG 3 Ensure healthy lives and promote well-being for all at all ages by enabling (i) access to over 600 biobanks in our biobank Directory hosting more than 2\,500 collections with estimated >100\,000\,000 samples and associated data\, (ii) how this is facilitated by current and prospect IT solutions\, (iii) how quality measures are implemented and further developed\, (iv) how our ELSI experts across Europe support research and guide on matters ranging from data protection to incidental findings\, and (v) how we position our community’s services and research together with our stakeholders and partners in the overall EU research landscape in order to advance and implement precision medicine while fostering efficient yet competitive\, cutting-edge and value generating research within Europe and across the globe. \nFind out more and view all abstracts here: https://unga76sciencesummit.sched.com/event/mF17/ref-bb22-biobanking-to-support-the-sdgs-convened-by-the-biobanking-and-biomolecular-resources-research-infrastructure-bbmri  \nAttendance is free. Register here: https://www.eventbrite.be/e/unga76-science-summit-tickets-158308010521 \n 
URL:https://dev2.bbmri-eric.eu/events/bbmri-eric-in-satellite-session-on-biobanking-within-unga76-science-summit/
LOCATION:Online
CATEGORIES:External Events,Webinar
ATTACH;FMTTYPE=image/png:https://dev2.bbmri-eric.eu/wp-content/uploads/2021_09_UNGA76_ScienceSummit.png
ORGANIZER;CN="United%20Nations":MAILTO:declan.kirrane@iscintelligence.com
END:VEVENT
BEGIN:VEVENT
DTSTART;TZID=Europe/Paris:20210928T100000
DTEND;TZID=Europe/Paris:20210928T111500
DTSTAMP:20260423T175245
CREATED:20210818T115015Z
LAST-MODIFIED:20210907T084059Z
UID:47999-1632823200-1632827700@dev2.bbmri-eric.eu
SUMMARY:3rd BBMRI.QM Newsroom
DESCRIPTION:Join BBMRI.QM\, our Quality Management team\, for the 3rd installation in our Newsroom series. This month features speakers from 3 of our National Nodes: \n\nBBMRI.no – Anne Jorunn Vikdal\nBBMRI.cy – Stella Antoniou\nBBMRI.de – Sabrina Schmitt\nGuest: Dunja Martin\n\n  \nAbout BBMRI.QM Newsroom \n“Get insights from the outside” – that is the motto for the consultation hours on quality-related topics in the field of biobanking and biomedical research and development. Sessions include an overview of current developments in quality management\, information about National Nodes (3 Nodes\, 3 minutes\, 3 slides)\, a guest speaker\, and exchange of ideas. Find more information here.
URL:https://dev2.bbmri-eric.eu/events/3rd-bbmri-qm-newsroom/
LOCATION:Online
CATEGORIES:BBMRI Events,Webinar
ATTACH;FMTTYPE=image/jpeg:https://dev2.bbmri-eric.eu/wp-content/uploads/AdobeStock_268062196_Newsroom_web-scaled-e1669298651879.jpeg
ORGANIZER;CN="BBMRI.QM%20Newsroom":MAILTO:nadja.palko@bbmri-eric.eu
END:VEVENT
END:VCALENDAR