BEGIN:VCALENDAR
VERSION:2.0
PRODID:-//BBMRI-ERIC - ECPv6.1.3//NONSGML v1.0//EN
CALSCALE:GREGORIAN
METHOD:PUBLISH
X-ORIGINAL-URL:https://dev2.bbmri-eric.eu
X-WR-CALDESC:Events for BBMRI-ERIC
REFRESH-INTERVAL;VALUE=DURATION:PT1H
X-Robots-Tag:noindex
X-PUBLISHED-TTL:PT1H
BEGIN:VTIMEZONE
TZID:Europe/Paris
BEGIN:DAYLIGHT
TZOFFSETFROM:+0100
TZOFFSETTO:+0200
TZNAME:CEST
DTSTART:20230326T010000
END:DAYLIGHT
BEGIN:STANDARD
TZOFFSETFROM:+0200
TZOFFSETTO:+0100
TZNAME:CET
DTSTART:20231029T010000
END:STANDARD
BEGIN:DAYLIGHT
TZOFFSETFROM:+0100
TZOFFSETTO:+0200
TZNAME:CEST
DTSTART:20240331T010000
END:DAYLIGHT
BEGIN:STANDARD
TZOFFSETFROM:+0200
TZOFFSETTO:+0100
TZNAME:CET
DTSTART:20241027T010000
END:STANDARD
END:VTIMEZONE
BEGIN:VEVENT
DTSTART;TZID=Europe/Paris:20230321T100000
DTEND;TZID=Europe/Paris:20230321T110000
DTSTAMP:20260420T235537
CREATED:20230315T162554Z
LAST-MODIFIED:20230316T162601Z
UID:69104-1679392800-1679396400@dev2.bbmri-eric.eu
SUMMARY:BBMRI.QM Newsroom - March 2023
DESCRIPTION:For our first BBMRI.QM Newsroom of 2023\, we will be welcoming two guests: \nAulikki Santavuori (Auria Biobank Quality Manager – BBMRI.fi) \nPhil Scordis (UCB – project partner in the IMI project EPND (European Platform for Neurodegenerative Diseases)) \nThe Newsroom takes place on 21 March between 10:00-11:00 CET. \nTo register for this Zoom meeting\, use this link. \nThe online meeting will follow the agenda below: \n\nWelcome and introduction (Andrea Wutte)\nISO 20387:2018 accreditation of Auria Biobank (Aulikki Santavuori)\nEPND project: Accelerating the discovery of diagnostics and treatment for neurodegenerative diseases involving public and private partners (Maike Tauchert\, Phil Scordis)\nQ&A (all)
URL:https://dev2.bbmri-eric.eu/events/bbmri-qm-newsroom-march-2023/
CATEGORIES:BBMRI Events
ATTACH;FMTTYPE=image/jpeg:https://dev2.bbmri-eric.eu/wp-content/uploads/qm-newsroom.jpeg
END:VEVENT
BEGIN:VEVENT
DTSTART;TZID=Europe/Paris:20230531T140000
DTEND;TZID=Europe/Paris:20230531T153000
DTSTAMP:20260420T235537
CREATED:20230510T135734Z
LAST-MODIFIED:20230510T135836Z
UID:70369-1685541600-1685547000@dev2.bbmri-eric.eu
SUMMARY:BBMRI-ERIC ELSI Dialogues Webinar: Introduction to the Belgian Biobank Legislation - A Piece of the Puzzle in the Complicated EU Regulatory Landscape
DESCRIPTION:Biobank legislation is not harmonised at the European Union level\, and the Member States have taken considerably divergent approaches in how they regulate the field. Whereas some countries do not have specific regulations\, others have adopted complex biobank laws. \nThis webinar aims to present the unique legal framework for biobanking that is currently in place in Belgium. The Belgian Biobank law was first adopted in 2008\, entered into force in 2018 and underwent an important reform in 2022. Moreover\, the law is complemented by an essential piece of self-regulation\, namely the Compendium on biobanks issued by the Federal Agency on Medicine Products and Health. The interplay with relevant data protection rules will also be the focus of our discussion. \nJoin us on 31 May at 14:00 CEST. Register online. \n\nModerator: Ilaria Colussi  \n\n\nSpeakers: Janos Meszaros\, Teodora Lalova-Spinks\, Introduction by Prof. Isabelle Huys  \n\nThis webinar has received funding from the European Union’s Horizon Europe research and innovation programme under the project canSERV – providing cutting edge cancer research services across Europe (grant agreement number 101058620). \n 
URL:https://dev2.bbmri-eric.eu/events/bbmri-eric-elsi-dialogues-webinar-introduction-to-the-belgian-biobank-legislation-a-piece-of-the-puzzle-in-the-complicated-eu-regulatory-landscape/
CATEGORIES:BBMRI Events,Webinar
ATTACH;FMTTYPE=image/png:https://dev2.bbmri-eric.eu/wp-content/uploads/ELSI-Dialogues-Webinar-e1683727106562.png
END:VEVENT
BEGIN:VEVENT
DTSTART;TZID=Europe/Paris:20230601T130000
DTEND;TZID=Europe/Paris:20230601T143000
DTSTAMP:20260420T235537
CREATED:20230316T162400Z
LAST-MODIFIED:20230510T135917Z
UID:69152-1685624400-1685629800@dev2.bbmri-eric.eu
SUMMARY:BBMRI.QM Academy: Validation and verification of processing methods and biobanking
DESCRIPTION:A live-learning webinar with the topic ‘Validation and verification of processing methods and biobanking’ presented by key expert Fay Betsou will be held on 1 June\,1:00-2:15 pm CEST via Zoom. \nWe are very pleased to inform you that this workshop is UEMS EACCME® for CME accredited. Participation in this live educational event equates to 1 CME credit. \nRegister: For this Zoom webinar and make use of the possibility to add the event to your calendar. \nThe online meeting will follow the agenda below: \n\n1:00-1:10: Welcome and introduction (Andrea Wutte)\n1:10-1:50: Validation and verification of processing methods and biobanking (scientific lecture) (Fay Betsou)\n1:50-2:10: Discussion\, Q&A (all)\n2:10-2:15: Word of thanks and end of meeting (Andrea Wutte)\n\nClick to access the: \n\nProgramme\nRegistration\nMore information
URL:https://dev2.bbmri-eric.eu/events/bbmri-qm-academy-validation-and-verification-of-processing-methods-and-biobanking/
CATEGORIES:BBMRI Events,Training
ATTACH;FMTTYPE=image/png:https://dev2.bbmri-eric.eu/wp-content/uploads/QM_Academy_june-e1683727149635.png
END:VEVENT
BEGIN:VEVENT
DTSTART;TZID=Europe/Paris:20230607T100000
DTEND;TZID=Europe/Paris:20230607T110000
DTSTAMP:20260420T235537
CREATED:20230517T130202Z
LAST-MODIFIED:20230517T130425Z
UID:70490-1686132000-1686135600@dev2.bbmri-eric.eu
SUMMARY:BBMRI.QM Newsroom
DESCRIPTION:The second session in 2023 will be held on 7 June\, 10:00-11:00 am CEST via Zoom. \nWe will welcome two guests: \n\nJudit Balogh (Senior Project Manager at BBMRI-ERIC)\nSaba Abdulghani (Head of Biobanking Development at BBMRI-ERIC)\n\nPLEASE REGISTER here for the Zoom meeting and MAKE USE of the possibility to add the event to your calendar. \nThe online meeting will follow the agenda below: \n\nWelcome and introduction (Maike Tauchert)\ncanSERV Project: Providing Cutting-Edge Cancer Research Services Across Europe (Judit Balogh\, Saba Abdulghani\, Maike Tauchert)\nQ&A (all)
URL:https://dev2.bbmri-eric.eu/events/bbmri-qm-newsroom-2/
CATEGORIES:BBMRI Events
ATTACH;FMTTYPE=image/png:https://dev2.bbmri-eric.eu/wp-content/uploads/QM_Newsroom_June-e1684328648529.png
END:VEVENT
BEGIN:VEVENT
DTSTART;VALUE=DATE:20230612
DTEND;VALUE=DATE:20230617
DTSTAMP:20260420T235537
CREATED:20230317T142804Z
LAST-MODIFIED:20230317T142858Z
UID:69180-1686528000-1686959999@dev2.bbmri-eric.eu
SUMMARY:BioMed-AI Summer School: Biomedicine & Bioethics supporting responsible innovation in the era of Big Data & AI
DESCRIPTION:Between 12-16 June 2023\, the BioMed-AI Summer School: Biomedicine & Bioethics supporting responsible innovation in the era of Big Data & AI takes place under the Auspices of the Academy of Athens.  \n30 participants will be selected\, following the review of applications by a board of experts from BRFAA\, CRB and Archimedes Center.  \nIf interested\, apply here no later than April 10.  \nBBMRI-ERIC’s ELSI team is pleased to be part of the excellent programme with a round table: “About trustworthiness\, black-boxing and ethical layering in AI-driven biomedical research”. We will be sharing the latest research results on the ethics of AI in relation to polygenic risk-scores or AI in imaging from ongoing projects such as Big Picture\, INTERVENE or EUCanImage to young researchers. \nFull details of the summer school are available here.
URL:https://dev2.bbmri-eric.eu/events/biomed-ai-summer-school-biomedicine-bioethics-supporting-responsible-innovation-in-the-era-of-big-data-ai/
CATEGORIES:External Events
ATTACH;FMTTYPE=image/png:https://dev2.bbmri-eric.eu/wp-content/uploads/Screenshot-2023-03-17-at-15.27.11-e1679063328980.png
END:VEVENT
BEGIN:VEVENT
DTSTART;TZID=Europe/Paris:20230926T100000
DTEND;TZID=Europe/Paris:20230926T110000
DTSTAMP:20260420T235537
CREATED:20230821T114258Z
LAST-MODIFIED:20230821T120135Z
UID:72176-1695722400-1695726000@dev2.bbmri-eric.eu
SUMMARY:3rd BBMRI.QM Newsroom
DESCRIPTION:The third session in 2023 will be held on 26 September\, 10:00-11:00 am CEST via Zoom. \nWe will welcome two guests: \n\nClaire Connellan (ERINHA\, Project Manager ISIDORe)\nLukasz Kozera (Scientific Programme Manager at BBMRI-ERIC)\n\nPLEASE REGISTER HERE for the Zoom meeting and MAKE USE of the possibility to add the event to your calendar. \nThe online meeting will follow the agenda below: \n26 September 2023 \n\nWelcome and introduction (BBMRI.QM)\nISIDORe Project (Guests and BBMRI.QM)\nQ&A (all)\n\nWe look forward to seeing you there.
URL:https://dev2.bbmri-eric.eu/events/3rd-bbmri-qm-newsroom-2/
CATEGORIES:BBMRI Events,Seminar
ATTACH;FMTTYPE=image/png:https://dev2.bbmri-eric.eu/wp-content/uploads/QM_Newsroom_September-e1692619252541.png
END:VEVENT
BEGIN:VEVENT
DTSTART;TZID=Europe/Paris:20230927T120000
DTEND;TZID=Europe/Paris:20230928T130000
DTSTAMP:20260420T235537
CREATED:20230803T144235Z
LAST-MODIFIED:20230803T144835Z
UID:71906-1695816000-1695906000@dev2.bbmri-eric.eu
SUMMARY:Europe Biobank Week Roadshow 2023 - IT: Data Integration in Biobanking
DESCRIPTION:Join the EBW Roadshow Innsbruck meeting led by BBMRI-ERIC and ESBB for an exciting two-day conference\, focusing on the following main topics: health & biobank data integration\, data management and data transfer between biobanks and European platforms\, and data extraction from various health-datasources. \nThis EBW Roadshow event will also feature industry presentations by leading Biobank-software vendors. Don’t miss out on this invaluable opportunity to enhance your knowledge and network with international experts in the field! \n?️ Date: September 27 – 28. 2023 (12.00 – 13.00)\n? Location: Medical University of Innsbruck (Christoph-Probst-Platz 1\, Innsbruck\, Austria\, 6020 ) \nWorkshop Focus:\n\nIn-depth discussions on biobanking and IT topics\nEffective multi-modal data management techniques between biobanks and connecting to BBMRI-ERIC European research infrastructure\nData extraction methodologies from diverse data sources\nInsights from industry-leading Biobank-software vendors\nHealth data integration strategies and best practices\n\nWho should attend?\n\nBiobank professionals\nIT specialists in healthcare and life sciences\nResearchers and scientists working with health data\nIndustry professionals interested in biobanking and IT collaboration\n\nWhy attend?\n\nGain valuable insights into the latest trends in biobanking and IT\nLearn practical strategies for integrating health data effectively\nDiscover innovative approaches to data management\nExplore cutting-edge technologies from top Biobank-software vendors\nNetwork and exchange ideas with industry experts and peers\nIT: Data Integration in Biobanking\n\nRegistration is open now\, seats are limited. \nPlease find our privacy statements here: ESBB \, BBMRI-ERIC. For more information on the Eventbrite Privacy Statement click here. You will find the information notice specific to the data processing for the organisation of the EBW Roadshow here.
URL:https://dev2.bbmri-eric.eu/events/europe-biobank-week-roadshow-2023-it-data-integration-in-biobanking/
LOCATION:Medical University of Innsbruck\, Christoph-Probst-Platz 1\, Innsbruck\, Tyrol\, 6020\, Austria
CATEGORIES:BBMRI Events,Conference
ATTACH;FMTTYPE=image/jpeg:https://dev2.bbmri-eric.eu/wp-content/uploads/ebw-roadshow-e1691073467568.jpeg
END:VEVENT
BEGIN:VEVENT
DTSTART;VALUE=DATE:20231004
DTEND;VALUE=DATE:20231007
DTSTAMP:20260420T235537
CREATED:20230807T144110Z
LAST-MODIFIED:20230807T160953Z
UID:71966-1696377600-1696636799@dev2.bbmri-eric.eu
SUMMARY:BioTechX Europe
DESCRIPTION:BBMRI-ERIC will once again be at the BioTechX Europe Congress. Here’s why we would we delighted for you to join us: \nBioTechX Europe is Europe’s largest congress covering diagnostics\, precision medicine and digital transformation in pharmaceutical development and healthcare. \nOver the years we have fostered strong relationships with local partners such as the Canton of Basel\, Novartis\, Roche and various incubators to cover the full pipeline of drug development. \nIn 2023 the 3-day event will return to Basel\, the pharma hub of Europe\, this time with 2500 leaders in the field\, 450 speakers and 100 start-ups all under one roof. The BioTechX Europe Congress features speakers from the top 50 pharmaceutical companies\, biotechs\, healthcare systems and academic groups creating endless networking opportunities. \nWhen booking\, take advantage of the BBMRI discount code: BBMRI50
URL:https://dev2.bbmri-eric.eu/events/biotechx-europe/
LOCATION:Basel Congress Center\, Messeplatz 21\, Basel\, 4058\, Switzerland
CATEGORIES:Conference
ATTACH;FMTTYPE=image/png:https://dev2.bbmri-eric.eu/wp-content/uploads/300x300.png
END:VEVENT
BEGIN:VEVENT
DTSTART;VALUE=DATE:20240514
DTEND;VALUE=DATE:20240518
DTSTAMP:20260420T235537
CREATED:20230807T145020Z
LAST-MODIFIED:20230906T150303Z
UID:71973-1715644800-1715990399@dev2.bbmri-eric.eu
SUMMARY:Europe Biobank Week Congress 2024
DESCRIPTION:BBMRI-ERIC and ESBB are delighted to announce that the Europe Biobank Week Congress is back for 2024.\nIt will take place from 14-17 May at The Hofburg in Vienna\, Austria. \nSave the date in your diaries and look out for further details on registration which will be made available shortly on the EBW website. \nInterested in sponsoring the Congress? Contact us.
URL:https://dev2.bbmri-eric.eu/events/europe-biobank-week-2024/
LOCATION:The Hofburg\, Vienna\, 1010\, Austria
CATEGORIES:BBMRI Events,Conference
ATTACH;FMTTYPE=image/png:https://dev2.bbmri-eric.eu/wp-content/uploads/EBW24_logo_transparent-e1694012576237.png
ORGANIZER;CN="BBMRI-ERIC":MAILTO:contact@bbmri-eric.eu
END:VEVENT
END:VCALENDAR