BEGIN:VCALENDAR
VERSION:2.0
PRODID:-//BBMRI-ERIC - ECPv6.1.3//NONSGML v1.0//EN
CALSCALE:GREGORIAN
METHOD:PUBLISH
X-ORIGINAL-URL:https://dev2.bbmri-eric.eu
X-WR-CALDESC:Events for BBMRI-ERIC
REFRESH-INTERVAL;VALUE=DURATION:PT1H
X-Robots-Tag:noindex
X-PUBLISHED-TTL:PT1H
BEGIN:VTIMEZONE
TZID:Europe/Paris
BEGIN:DAYLIGHT
TZOFFSETFROM:+0100
TZOFFSETTO:+0200
TZNAME:CEST
DTSTART:20210328T010000
END:DAYLIGHT
BEGIN:STANDARD
TZOFFSETFROM:+0200
TZOFFSETTO:+0100
TZNAME:CET
DTSTART:20211031T010000
END:STANDARD
END:VTIMEZONE
BEGIN:VEVENT
DTSTART;VALUE=DATE:20211005
DTEND;VALUE=DATE:20211008
DTSTAMP:20260423T114547
CREATED:20210726T124440Z
LAST-MODIFIED:20210728T113834Z
UID:47144-1633392000-1633651199@dev2.bbmri-eric.eu
SUMMARY:Australia-Europe Symposium on Research Infrastructures
DESCRIPTION:
URL:https://dev2.bbmri-eric.eu/events/australia-europe-symposium-on-research-infrastructures/
LOCATION:Online
CATEGORIES:Conference,External Events
ATTACH;FMTTYPE=image/png:https://dev2.bbmri-eric.eu/wp-content/uploads/RI-VIS_Symposia_Save_The_Dates_2021_Aus_Twitter-e1627464188740.png
END:VEVENT
BEGIN:VEVENT
DTSTART;TZID=Europe/Paris:20211012T140000
DTEND;TZID=Europe/Paris:20211012T160000
DTSTAMP:20260423T114547
CREATED:20210830T093825Z
LAST-MODIFIED:20211020T124542Z
UID:48462-1634047200-1634054400@dev2.bbmri-eric.eu
SUMMARY:Online Workshop Day 1: Participant engagement in longitudinal population studies/cohorts
DESCRIPTION:This webinar takes places over 2 days\, for 2 hours each:\nDay 1: October 12th\, 2021. 14:00-16:00h (CEST)\nDay 2: October 14th\, 2021. 14:00-16:00h (CEST)\nYou are welcome to attend either or both sessions! \n  \nDescription: Retaining several generations of participants in longitudinal cohorts and ensuring that the participants continuously contribute with new data and support data sharing\, is challenging. Participants gradually drop out\, do not respond to data collection requests\, or simply lose interest in the study. Young people\, disadvantaged socio-economic groups\, and ethnic minorities are particularly difficult to retain for a long period of time. \nParticipant engagement aims to maintain the interest of participants in the study and encourage their participation and commitment over its lifetime. European cohorts are gradually developing participant engagement strategies including innovative tools for recruitment and informed consent collection\, data collection and ongoing communication with\, and involvement of\, participants. At this digital workshop\, the strategies of key European cohorts will be presented and discussed\, and experiences exchanged. Work conducted to map participant engagement strategies in European cohorts will also be presented. The workshop is jointly organized by BBMRI-ERIC and Biobank Norway. \n  \nAgenda: \nDay 1. October 12th\, 2021. 14:00-16:00 CET.  \n\n\n\n14:00\nWelcome \nIsabelle-Budin Ljøsne (Biobank Norway) \nMónica Cano Abadía (BBMRI-ERIC)\n\n\n14:10\nTopic 1: Recruiting participants across several generations \nSpeaker: Lynn Molloy\, ALSPAC\, UK \nShort Q&A\n\n\n14:35\nTopic 2: Community Engagement / Coproduction and Citizen Science \nSpeaker:  Aamnah Rahman\, Research Fellow and Shahid Islam\, Senior Research Fellow\, Born in Bradford\, UK \nShort Q&A\n\n\n15:00\nTopic 3: Recruiting and engaging participants in a web-based cohort \nSpeaker: Costanza Pizzi\, NINFEA (Nascita e INFanzia: gli Effetti dell’Ambiente)\, Italy \nShort Q&A\n\n\n15:25\nQ&A + Exchange\n\n\n16:00\nClosure\n\n\n\n  \n  \nDay 2. October 14th\, 2021. 14:00-16:00 CET. \n\n\n\n14:00 \n \nTopic 4: Returning actionable research results to cohort participants \nSpeaker: Shona Kerr\, VIKING GENES\, UK \nShort Q&A\n\n\n14:25\nTopic 5: Engaging with cohorts of young participants   \nSpeaker: Ana Cristina Santos\, Geração 21\, Portugal \nShort Q&A\n\n\n14:50\nTopic 6: Participant engagement in times of pandemic \nSpeaker:  Robin Flaig\, Clare Dolan and Rachel Edwards\, Generation Scotland\, UK \nShort Q&A\n\n\n15:15\nMapping participant engagement in European cohorts  \nSpeaker: Isabelle Budin-Ljøsne\, Norwegian Institute of Public Health and Biobank Norway\, Norway\n\n\n15:35\nQ&A + Exchange\n\n\n16:00\nClosure\n\n\n\n  \nWebsites of cohorts \nALSPAC: http://www.bristol.ac.uk/alspac/ \nBorn in Bradford: https://borninbradford.nhs.uk/ \nNINFEA: https://www.progettoninfea.it/index_en \nVIKING GENES: https://www.ed.ac.uk/viking \nGeração 21: https://www.geracao21.com/en/ \nGeneration Scotland: https://www.ed.ac.uk/generation-scotland \n  \nView the recordings for Day 1 and Day 2.
URL:https://dev2.bbmri-eric.eu/events/online-workshop-day-1-participant-engagement-in-longitudinal-population-studies-cohorts/
LOCATION:Online
CATEGORIES:BBMRI Events,Seminar,Webinar
ORGANIZER;CN="BBMRI-ERIC":MAILTO:contact@bbmri-eric.eu
END:VEVENT
BEGIN:VEVENT
DTSTART;TZID=Europe/Paris:20211013T100000
DTEND;TZID=Europe/Paris:20211013T120000
DTSTAMP:20260423T114547
CREATED:20210720T075033Z
LAST-MODIFIED:20210907T083741Z
UID:46802-1634119200-1634126400@dev2.bbmri-eric.eu
SUMMARY:Pre-Analytical Phases of Biobanking\, Part 1: Phlebotomy
DESCRIPTION:The pre-analytical phase is crucial when handling specimen. Issues that arise even before samples arrive in the laboratory and further route to the biobank play an important role. Errors can occur during the pre-analytical phase with specimen handling and identification. Therefore\, the pre-analytical phase must have strict quality assurance and control measures in place. \nKey expert Dr. Łukasz Kozera will present in this webinar the most novel key elements of phlebotomy\, coordinated laboratory and biobanking activities including patient preparation and the science behind the pre-analytical phase; these are currently important and will play an even more important role in the future of biomedical research. Dr. Kozera will provide balanced content between the latest science and good everyday practice. \nRegister here to receive webinar details: https://register.gotowebinar.com/register/8402489166331653132 \nPlease send your questions\, comments and feedback to: ulrike.rohrer@bbmri-eric.eu
URL:https://dev2.bbmri-eric.eu/events/pre-analytical-phases-of-biobanking-part-1-phlebotomy/
LOCATION:Online
CATEGORIES:BBMRI Events,Training
ATTACH;FMTTYPE=image/png:https://dev2.bbmri-eric.eu/wp-content/uploads/QM-Biobanking-preanalytical-phase_drawing-blood-e1631005932904.png
ORGANIZER;CN="BBMRI.QM%20Academy":MAILTO:ulrike.rohrer@bbmri-eric.eu
END:VEVENT
BEGIN:VEVENT
DTSTART;TZID=Europe/Paris:20211014T140000
DTEND;TZID=Europe/Paris:20211014T160000
DTSTAMP:20260423T114547
CREATED:20210830T094046Z
LAST-MODIFIED:20220510T100844Z
UID:48467-1634220000-1634227200@dev2.bbmri-eric.eu
SUMMARY:Online Workshop Day 2: Participant engagement in longitudinal population studies/cohorts
DESCRIPTION:This webinar takes places over 2 days\, for 2 hours each:\nDay 1: October 12th\, 2021. 14:00-16:00h (CEST)\nDay 2: October 14th\, 2021. 14:00-16:00h (CEST)\nYou are welcome to attend either or both sessions! \n  \nDescription: Retaining several generations of participants in longitudinal cohorts and ensuring that the participants continuously contribute with new data and support data sharing\, is challenging. Participants gradually drop out\, do not respond to data collection requests\, or simply lose interest in the study. Young people\, disadvantaged socio-economic groups\, and ethnic minorities are particularly difficult to retain for a long period of time. \nParticipant engagement aims to maintain the interest of participants in the study and encourage their participation and commitment over its lifetime. European cohorts are gradually developing participant engagement strategies including innovative tools for recruitment and informed consent collection\, data collection and ongoing communication with\, and involvement of\, participants. At this digital workshop\, the strategies of key European cohorts will be presented and discussed\, and experiences exchanged. Work conducted to map participant engagement strategies in European cohorts will also be presented. The workshop is jointly organized by BBMRI-ERIC and Biobank Norway. \n  \nAgenda: \nDay 1. October 12th\, 2021. 14:00-16:00 CET. \n  \nDay 2. October 14th\, 2021. 14:00-16:00 CET. \n\n\n\n14:00 \n \nTopic 4: Returning actionable research results to cohort participants \nSpeaker: Shona Kerr\, VIKING GENES\, UK \nShort Q&A\n\n\n14:25\nTopic 5: Engaging with cohorts of young participants   \nSpeaker: Ana Cristina Santos\, Geração 21\, Portugal \nShort Q&A\n\n\n14:50\nTopic 6: Participant engagement in times of pandemic \nSpeaker:  Robin Flaig\, Clare Dolan and Rachel Edwards\, Generation Scotland\, UK \nShort Q&A\n\n\n15:15\nMapping participant engagement in European cohorts  \nSpeaker: Isabelle Budin-Ljøsne\, Norwegian Institute of Public Health and Biobank Norway\, Norway\n\n\n15:35\nQ&A + Exchange\n\n\n16:00\nClosure\n\n\n\n  \nWebsites of cohorts \nALSPAC: http://www.bristol.ac.uk/alspac/ \nBorn in Bradford: https://borninbradford.nhs.uk/ \nNINFEA: https://www.progettoninfea.it/index_en \nVIKING GENES: https://www.ed.ac.uk/viking \nGeração 21: https://www.geracao21.com/en/ \nGeneration Scotland: https://www.ed.ac.uk/generation-scotland \n\nView the recordings for Day 1 and Day 2.
URL:https://dev2.bbmri-eric.eu/events/online-workshop-day-2-participant-engagement-in-longitudinal-population-studies-cohorts/
LOCATION:Online
CATEGORIES:BBMRI Events,Seminar,Webinar
ORGANIZER;CN="BBMRI-ERIC":MAILTO:contact@bbmri-eric.eu
END:VEVENT
BEGIN:VEVENT
DTSTART;TZID=Europe/Paris:20211018T090000
DTEND;TZID=Europe/Paris:20211018T120000
DTSTAMP:20260423T114547
CREATED:20211015T134144Z
LAST-MODIFIED:20220315T081305Z
UID:50141-1634547600-1634558400@dev2.bbmri-eric.eu
SUMMARY:Workshop: Building a Trusted Research Environment
DESCRIPTION:“Why would I give my health data to a bunch of mad scientists\, computer hackers and identity thieves?” \nFear\, skepticism and lack of information surrounding the sharing of health data is widespread. That’s why BBMRI-ERIC is organizing a workshop on “Building a Trusted Research Environment”. \nThe event will open the discussion on creating Trusted Research Environments (TREs) for data-sharing in health research\, and it aims to outline the current landscape and contexts\, provide new focus for National Nodes and patients’ organizations and show examples of good practice in developing and using Trusted Research Environments. \nThe event was evolved from discussion between Austrian National Node\, Stakeholder Forum Patient Pillar and BBMRI-ERIC’s HQ. It will be of interest to all National Nodes\, and it also addresses one of the priorities of BBMRI-ERIC’s Stakeholder Forum Patient Pillar. \nFor the detailed agenda\, click here. \nRegistration is now closed.
URL:https://dev2.bbmri-eric.eu/events/workshop-building-a-trusted-research-environment/
LOCATION:Online
ATTACH;FMTTYPE=image/jpeg:https://dev2.bbmri-eric.eu/wp-content/uploads/trust-image.jpg
ORGANIZER;CN="BBMRI-ERIC":MAILTO:contact@bbmri-eric.eu
END:VEVENT
BEGIN:VEVENT
DTSTART;TZID=Europe/Paris:20211020T100000
DTEND;TZID=Europe/Paris:20211020T120000
DTSTAMP:20260423T114547
CREATED:20210720T075306Z
LAST-MODIFIED:20210907T083908Z
UID:46804-1634724000-1634731200@dev2.bbmri-eric.eu
SUMMARY:Pre-Analytical Phases of Biobanking\, Part 2: Lab – Sample Fractionation
DESCRIPTION:The pre-analytic phase is crucial when handling specimen. Issues that arise even before samples arrive in the laboratory and further to the biobank play an important role. Errors can occur during the pre-analytical phase with specimen handling and identification. Therefore\, the pre-analytical phase must have strict quality assurance and control measures in place. \nKey expert Dr. Łukasz Kozera will present in this webinar the most novel key elements of laboratory and biobanking activities\, from sample transportation to fractionation including centrifugation and time limits; these are currently important and will play an even more important role in the future of biomedical research. Dr. Kozera will provide balanced content between the latest science and good everyday practice. \nRegister here to receive webinar details: https://register.gotowebinar.com/register/3528058351814847502 \nPlease send your questions\, comments and feedback to: ulrike.rohrer@bbmri-eric.eu
URL:https://dev2.bbmri-eric.eu/events/pre-analytical-phases-of-bioanking-part-2-lab-sample-fractionation/
LOCATION:Online
CATEGORIES:BBMRI Events,Training
ATTACH;FMTTYPE=image/png:https://dev2.bbmri-eric.eu/wp-content/uploads/QM-Biobanking-preanalytical-phase_lab-results-e1631005953157.png
ORGANIZER;CN="BBMRI.QM%20Academy":MAILTO:ulrike.rohrer@bbmri-eric.eu
END:VEVENT
BEGIN:VEVENT
DTSTART;VALUE=DATE:20211027
DTEND;VALUE=DATE:20211030
DTSTAMP:20260423T114547
CREATED:20210913T120439Z
LAST-MODIFIED:20210913T120733Z
UID:48955-1635292800-1635551999@dev2.bbmri-eric.eu
SUMMARY:7th African Conference on One Health & Biosecurity
DESCRIPTION:The COVID-19 pandemic continues to demand our attention. It places a magnifying glass at our societies’ achievements and clarifies what works and does not work. It stimulated rapid responses from the scientific community for contributing to the acceleration of transnational research. It showcases\, yet again and to a global scale\, that disease does not know any boarders. Michaela Th. Mayrhofer\, BBMRI-ERIC’s Head of ELSI Services & Research\, will give a presentation that puts the focus on biobanking during pandemic times. Firstly\, it sets the scene with some examples from within the Pan-European Research Infrastructure BBMRI-ERIC and its global partners. Secondly\, it will draw conclusions as regards to the practice of biobanking\, data and sample quality\, findability of ressources and challenges for governance and the ethical\, legal and societal implications. \nRegister now for the GET Consortium’s 7th African Conference on One Health & Biosecurity here to hear this and many other valuable talks: https://www.getafrica.org/events/conference-2021/ \n 
URL:https://dev2.bbmri-eric.eu/events/7th-african-conference-on-one-health-biosecurity/
LOCATION:Lagos Civic Center\, Ozumba Mbadiwe Road\, Opposite 1004\, Victoria Island 100001\, Lagos\, Nigeria
CATEGORIES:Conference,External Events
ATTACH;FMTTYPE=image/png:https://dev2.bbmri-eric.eu/wp-content/uploads/2021_10_GETConsortium.png
END:VEVENT
BEGIN:VEVENT
DTSTART;TZID=Europe/Paris:20211027T100000
DTEND;TZID=Europe/Paris:20211027T120000
DTSTAMP:20260423T114547
CREATED:20210720T075512Z
LAST-MODIFIED:20210907T083853Z
UID:46806-1635328800-1635336000@dev2.bbmri-eric.eu
SUMMARY:Pre-Analytical Phases of Biobanking\, Part 3: Science behind the pre-analytical phase\, quality assurance schemes in biobanking
DESCRIPTION:The pre-analytical phase is crucial when handling specimen. Issues that arise even before samples arrive in the laboratory and further route to the biobank play an important role. Errors can occur during the pre-analytical phase with specimen handling and identification. Therefore\, the pre-analytical phase must have strict quality assurance and control measures in place to prevent errors and allow qualification of samples for research protocols. \nKey expert Dr. Łukasz Kozera will present in this webinar the most novel key elements of phlebotomy\, coordinated laboratory and biobanking activities including patient preparation and the science behind the pre-analytical phase; these are currently important and will play an even more important role in the future of biomedical research. Dr. Kozera will provide balanced content between the latest science and good everyday practice. \nBBMRI-ERIC is in the process of applying for CME accreditation for this programme. Information will be updated accordingly. \nRegister here to receive webinar details: https://register.gotowebinar.com/register/8402489166331653132 \nPlease send your questions\, comments and feedback to: ulrike.rohrer@bbmri-eric.eu
URL:https://dev2.bbmri-eric.eu/events/pre-analytical-phases-of-biobanking-part-3-science-behind-the-pre-analytical-phase-quality-assurance-schemes-in-biobanking/
LOCATION:Online
CATEGORIES:BBMRI Events,Training
ATTACH;FMTTYPE=image/png:https://dev2.bbmri-eric.eu/wp-content/uploads/QM-Biobanking-preanalytical-phase_testing-e1631005995869.png
ORGANIZER;CN="BBMRI.QM%20Academy":MAILTO:ulrike.rohrer@bbmri-eric.eu
END:VEVENT
BEGIN:VEVENT
DTSTART;TZID=Europe/Paris:20211029T140000
DTEND;TZID=Europe/Paris:20211029T160000
DTSTAMP:20260423T114547
CREATED:20210920T083330Z
LAST-MODIFIED:20220510T101242Z
UID:49188-1635516000-1635523200@dev2.bbmri-eric.eu
SUMMARY:EUCAN ELSI Webinar: International Data Sharing
DESCRIPTION:Join BBMRI-ERIC and other project partners from the EUCAN ELSI Collaboratory (EUCANCan\, euCanSHare\, CINECA\, iReceptor Plus\, EUCAN-Connect\, ReCoD-ID\, and EuCanImage) for a joint webinar about how fostering stakeholder engagement can improve transparency and accountability in international sharing of health data. \n The first part will include four 15-minute presentations and conclude with a Q&A. The second part will be dedicated to horizon scanning\, providing a space for researchers in the EUCAN ELSI projects to discuss a wide verity of themes concerning the future of international data sharing\, including ongoing barriers to be remover; future research that needs to be conducted; and affirmation of certain already existing frameworks. \nBBMRI-ERIC’s Michaela Th. Mayrhofer will give a talk entitled\, “A focus on the S in ELSI: societal engagement and social aspects of data sharing” \nAll are welcome. \n  \n 
URL:https://dev2.bbmri-eric.eu/events/eucan-elsi-webinar-international-data-sharing/
LOCATION:Online
CATEGORIES:External Events,Webinar
ATTACH;FMTTYPE=image/jpeg:https://dev2.bbmri-eric.eu/wp-content/uploads/2021_10_CINECA-webinar.jpg
ORGANIZER;CN="EUCAN%20ELSI%20Collaboratory":MAILTO:marta.lloret@ebi.ac.uk
END:VEVENT
END:VCALENDAR