BEGIN:VCALENDAR
VERSION:2.0
PRODID:-//BBMRI-ERIC - ECPv6.1.3//NONSGML v1.0//EN
CALSCALE:GREGORIAN
METHOD:PUBLISH
X-ORIGINAL-URL:https://dev2.bbmri-eric.eu
X-WR-CALDESC:Events for BBMRI-ERIC
REFRESH-INTERVAL;VALUE=DURATION:PT1H
X-Robots-Tag:noindex
X-PUBLISHED-TTL:PT1H
BEGIN:VTIMEZONE
TZID:Europe/Paris
BEGIN:DAYLIGHT
TZOFFSETFROM:+0100
TZOFFSETTO:+0200
TZNAME:CEST
DTSTART:20220327T010000
END:DAYLIGHT
BEGIN:STANDARD
TZOFFSETFROM:+0200
TZOFFSETTO:+0100
TZNAME:CET
DTSTART:20221030T010000
END:STANDARD
END:VTIMEZONE
BEGIN:VEVENT
DTSTART;TZID=Europe/Paris:20220405T100000
DTEND;TZID=Europe/Paris:20220405T123000
DTSTAMP:20260421T034234
CREATED:20220302T141856Z
LAST-MODIFIED:20220510T101224Z
UID:55163-1649152800-1649161800@dev2.bbmri-eric.eu
SUMMARY:Launch of EU-AMRI
DESCRIPTION:The medical research infrastructures BBMRI\, EATRIS and ECRIN have formed an alliance to facilitate the effective and efficient use of scientific services\, expertise and tools by academia and industry for the seamless translation of their scientific discoveries into new treatments and solutions for patients. The end goal of EU-AMRI\, the European Alliance of Medical Research Infrastructures\, is to make it easier for the broader research community to achieve their goals by delivering scientific services with the highest standards of quality and reproducibility. \nOn the morning of 5 April 2022 (10:00 – 12:30 CET)\, EU-AMRI will be formally launched in Brussels. The official launch is a hybrid event\, hosted by Vivienne Parry\, and can be attended online for free. \nThe EU-AMRI Launch programme includes a key note from Prof. Walter Ricciardi\, former Chair of the Cancer Mission Board\, followed by a presentation of EU-AMRI\, and is closed by a round-table discussion with important stakeholders for the future of the EU-AMRI Alliance. \nLink to the EU-AMRI Launch agenda.
URL:https://dev2.bbmri-eric.eu/events/launch-of-eu-amri/
LOCATION:Online
ATTACH;FMTTYPE=image/jpeg:https://dev2.bbmri-eric.eu/wp-content/uploads/EU-AMRI_Launch-event.jpg
ORGANIZER;CN="BBMRI-ERIC":MAILTO:contact@bbmri-eric.eu
END:VEVENT
END:VCALENDAR