BEGIN:VCALENDAR
VERSION:2.0
PRODID:-//BBMRI-ERIC - ECPv6.1.3//NONSGML v1.0//EN
CALSCALE:GREGORIAN
METHOD:PUBLISH
X-WR-CALNAME:BBMRI-ERIC
X-ORIGINAL-URL:https://dev2.bbmri-eric.eu
X-WR-CALDESC:Events for BBMRI-ERIC
REFRESH-INTERVAL;VALUE=DURATION:PT1H
X-Robots-Tag:noindex
X-PUBLISHED-TTL:PT1H
BEGIN:VTIMEZONE
TZID:Europe/Paris
BEGIN:DAYLIGHT
TZOFFSETFROM:+0100
TZOFFSETTO:+0200
TZNAME:CEST
DTSTART:20220327T010000
END:DAYLIGHT
BEGIN:STANDARD
TZOFFSETFROM:+0200
TZOFFSETTO:+0100
TZNAME:CET
DTSTART:20221030T010000
END:STANDARD
END:VTIMEZONE
BEGIN:VEVENT
DTSTART;VALUE=DATE:20220902
DTEND;VALUE=DATE:20220904
DTSTAMP:20260420T205856
CREATED:20220707T133511Z
LAST-MODIFIED:20220707T133717Z
UID:59610-1662076800-1662249599@dev2.bbmri-eric.eu
SUMMARY:GeneForum 2022
DESCRIPTION:About\n\n\n\n\n\n\n\n\n\nThe Institute of Genomics of the University of Tartu and Gene Center cordially invites you to The 21st International Gene Forum 2022 on September 2-3\, 2022. After two years not being able to organize a traditional conference\, we are glad to announce that this year we organizing a hybrid meeting at the Estonian National Museum.\n\n\n\n\n\n\n\nAn annual international high-level scientific conference on genetics and genomics\, the major event in Baltics\, provides an excellent opportunity to establish and renew contacts in the region. \nRead more…
URL:https://dev2.bbmri-eric.eu/events/geneforum2022/
LOCATION:Tartu\, Estonia
END:VEVENT
BEGIN:VEVENT
DTSTART;VALUE=DATE:20220906
DTEND;VALUE=DATE:20220909
DTSTAMP:20260420T205856
CREATED:20210726T124207Z
LAST-MODIFIED:20220125T135005Z
UID:47141-1662422400-1662681599@dev2.bbmri-eric.eu
SUMMARY:Nordic Biobank Conference – “Current trends and challenges in the Nordic countries”
DESCRIPTION:The 1st Nordic Biobank Conference is a unique opportunity to meet representatives in the area of human biobanking as well as other scientific experts from healthcare\, academia\, and industry! Come and listen to the latest news and current trends in human biobanking\, while networking with professional colleagues. \nThe conference is jointly organized by the Nordic countries\, comprised of Denmark\, Finland\, Iceland\, Norway and Sweden.
URL:https://dev2.bbmri-eric.eu/events/nordic-biobank-conference-current-trends-and-challenges-in-the-nordic-countries/
LOCATION:Svenska Mässan\, The Swedish Exhibition & Congress Centre in Gothenburg\, Mässans Gata/Korsvägen\, Gothenburg\, Sweden
CATEGORIES:Conference,External Events
ATTACH;FMTTYPE=image/png:https://dev2.bbmri-eric.eu/wp-content/uploads/nordic-biobanking-conf-logo.png
END:VEVENT
BEGIN:VEVENT
DTSTART;VALUE=DATE:20220907
DTEND;VALUE=DATE:20220910
DTSTAMP:20260420T205856
CREATED:20220822T134238Z
LAST-MODIFIED:20220822T140830Z
UID:61608-1662508800-1662767999@dev2.bbmri-eric.eu
SUMMARY:Integromed Conference and ICG-17 Event
DESCRIPTION:Latvian Biomedical Research and Study Centre invites you to virtually attend the INTEGROMED project conference that is happening together with the ICG-17 event from 7th to 9th September! The conference includes sessions about the microbiome\, multi-omics\, precision medicine\, biobanking\, and more! The full agenda and application form can be found here: https://integromed.net/events/integromed-conference-8-9-september-riga/
URL:https://dev2.bbmri-eric.eu/events/integromed-conference-and-icg-17-event/
LOCATION:Park Inn by Radisson\, Riga\, Park Inn by Radisson\, Riga\, Latvia
END:VEVENT
BEGIN:VEVENT
DTSTART;TZID=Europe/Paris:20220915T100000
DTEND;TZID=Europe/Paris:20220915T173000
DTSTAMP:20260420T205856
CREATED:20220802T072456Z
LAST-MODIFIED:20220802T072456Z
UID:60840-1663236000-1663263000@dev2.bbmri-eric.eu
SUMMARY:Biobanking in Microbiome Research
DESCRIPTION:Dear Ladies and Gentlemen\,\nDear colleagues\, \nBillions of microorganisms such as bacteria and viruses colonise the body and influence human health. The so-called microbiome is not only found in the intestine\, microorganisms are also found in the mouth\, in the lungs or on the skin. Comparing the number of human body cells with the number of microbes\, the small organisms are clearly in the majority.\nIn recent years\, the microbiome has increasingly become the focus of research\, sometimes even referred to as “microbiomania”. With the help of metagenomics\, scientists today record exactly how many of the different species are found in biosamples.\nDuring the workshop “Biobanking in Microbiome Research” held by the German Biobank Node (GBN)\, medical researchers and biobank representatives will talk about current findings and trends from science as well as biobanking challenges in this context.\nThe aim of the workshop is to strengthen the exchange between research and biobanking and thus create optimal conditions for meaningful research results.\nWe look forward to welcoming you in Hanover. \nSincerely yours\,\nthe Programme Committee\nDr. Gabriele Anton\, Prof. Dr. Thomas Illig\,\nProf. Dr. Wolfgang Lieb and Dr. Cornelia Specht \n  \nNote: Participation is free of charge (number of participants limited to 80 persons). Please register for the workshop by 1 September 2022 at the latest: https://bit.ly/2I2R9tM
URL:https://dev2.bbmri-eric.eu/events/biobanking-in-microbiome-research/
LOCATION:Medizinische Hochschule Hannover\, CRC Core Facility\, Feodor-Lynen-Straße 15\, Hanover\, 30625\, Germany
END:VEVENT
BEGIN:VEVENT
DTSTART;TZID=Europe/Paris:20220919T090000
DTEND;TZID=Europe/Paris:20220920T180000
DTSTAMP:20260420T205856
CREATED:20220727T075043Z
LAST-MODIFIED:20220801T073551Z
UID:60566-1663578000-1663696800@dev2.bbmri-eric.eu
SUMMARY:Europe Biobank Week Roadshow - On the Road to High Quality - With Biobanks in the Fast Lane - University of Regensburg\, Germany
DESCRIPTION:On the Road to High Quality – With Biobanks in the Fast Lane!\nRegensburg: 19-20 September 2022\nBBMRI-ERIC and ESBB invite you to the first Europe Biobank Week Roadshow Meeting & Exhibit held at the University of Regensburg\, Germany\, 19 -20 September 2022. This #EBW22 Roadshow meeting is organized by ESBB and BBMRI-ERIC in partnership with the University of Regensburg\, the “1. Bavarian Biobank Day” and the BRoTHER Summer School. The Meeting kicks off with a keynote by Carolyn Compton (US) followed by these sessions: \n\nThe Bumpy Road to Accreditation\nRoadmap to Quality – A Guide to Reach the Aim of Accreditation\nData Quality – More Than a Trailer\nQuality as a Driver for Biobank Innovations.\n\nThe event is framed by the first meeting of the Bavarian Biobank Network on the morning of the first day and hands-on training by the BRoTHER Summer School in the afternoon of the second day. Enjoy the programme\, meet and discuss with your peers at poster sessions and the networking event and exchange with companies at the exhibition. As a member of ESBB and BBMRI-ERIC you benefit from a reduced registration fee! \nAll oral presentations are given by selected speakers only. However\, submission of poster abstracts is very welcome. During the registration process you will be asked if you would like to submit a poster abstract. If you are interested\, please have the author information and the poster abstract (250 words) ready for submission when registering! \nBooking and further information\nSee the programme and register via the ESBB website today\, seats are limited! \nYou will find the information notice specific to the data processing for the organization of the EBW Roadshow here. \nPlease also find our privacy statements here: ESBB\, BBMRI-ERIC. For more information on the Eventbrite Privacy Statement click here.
URL:https://dev2.bbmri-eric.eu/events/europe-biobank-week-roadshow-university-of-regensburg-germany/
LOCATION:University of Regensburg\, Universitätsstraße 31\, Regensburg\, 93053\, Germany
CATEGORIES:BBMRI Events,Conference
ATTACH;FMTTYPE=image/jpeg:https://dev2.bbmri-eric.eu/wp-content/uploads/regensburg_image.jpg
ORGANIZER;CN="BBMRI-ERIC":MAILTO:contact@bbmri-eric.eu
END:VEVENT
BEGIN:VEVENT
DTSTART;TZID=Europe/Paris:20220927T090000
DTEND;TZID=Europe/Paris:20220927T160000
DTSTAMP:20260420T205856
CREATED:20220830T071925Z
LAST-MODIFIED:20220830T071925Z
UID:61953-1664269200-1664294400@dev2.bbmri-eric.eu
SUMMARY:BBMRI Expert Centre: 5th International CBmed Biomarker Conference
DESCRIPTION:“Towards applied precision medicine”\n\nBBMRI Expert Centre\, CBmed\, will hold the 5th International CBmed Biomarker Conference on Tuesday\, September 27th\, 2022 as a Webmeeting. \nThe Conference will focus on the latest developments towards precision medicine. \nWithin the sessions\, results and data from drug screening\, novel clinical trials\, microbiome research and micro plastics in human health will be presented and discussed. \nFull agenda available here. \nJoin the Team meeting at 9am here.
URL:https://dev2.bbmri-eric.eu/events/bbmri-expert-centre-5th-international-cbmed-biomarker-conference/
LOCATION:Online
CATEGORIES:External Events
END:VEVENT
BEGIN:VEVENT
DTSTART;TZID=Europe/Paris:20220927T100000
DTEND;TZID=Europe/Paris:20220927T111500
DTSTAMP:20260420T205856
CREATED:20220915T132820Z
LAST-MODIFIED:20220915T134053Z
UID:62757-1664272800-1664277300@dev2.bbmri-eric.eu
SUMMARY:3rd BBMRI.QM Newsroom 2022
DESCRIPTION:We invite you to our 3rd BBMRI.QM Newsroom in 2022\, which will be held on \n27 September\, 10:00-11:15 a.m. CEST via Zoom. \nWe will welcome three representatives of ISO 20387 accredited biobanks\, two QM experts of our National Nodes and two guests from IARC. \nRegister here to receive the Zoom link and make use of the possibility to add the event to your calendar. \nThe online meeting will follow the agenda below: \n27 September 2022  \n\nQ-UICK\n\nBBMRI.QM team\, BBMRI-ERIC \nAgnieszka Matera-Witkiewicz (Wroclaw Medical University) \nJosé Antonio López-Guerrero (University of Valencia) \nSimone Lapi (Biobank Unit of the University Pisa Hospital) \n\nQ-UIZ\n\nBBMRI.se – Karina Lövstedt (Sweden) \nBBMRI.hu – Beáta Bessenyei (Hungary) \n\nQ-UEST\n\nGuests from IARC: Carolina Espina\, Florence Le Calvez-Kelm \n\nQ-CHANGE\n\nWe look forward to your active participation in the discussion.
URL:https://dev2.bbmri-eric.eu/events/3rd-bbmri-qm-newsroom-2022/
LOCATION:Online
CATEGORIES:BBMRI Events
ORGANIZER;CN="BBMRI.QM%20Newsroom":MAILTO:nadja.palko@bbmri-eric.eu
END:VEVENT
BEGIN:VEVENT
DTSTART;VALUE=DATE:20220928
DTEND;VALUE=DATE:20221001
DTSTAMP:20260420T205856
CREATED:20220902T091557Z
LAST-MODIFIED:20220902T091557Z
UID:62084-1664323200-1664582399@dev2.bbmri-eric.eu
SUMMARY:PORT for Health: Oncology 2022 Conference
DESCRIPTION:PORT Polish Center for Technology Development in Wrocław\, Poland\, the headquarters of the BBMRI.pl National Node and BBMRI.pl Consortium Leader\, invites you to attend the international conference PORT for Health: Oncology.
URL:https://dev2.bbmri-eric.eu/events/port-for-health-oncology-2022-conference/
LOCATION:Łukasiewicz – PORT Polish Center for Technology Development\, 147 Stabłowicka Street\, Wroclaw\, 54-066\, Poland
CATEGORIES:Conference
END:VEVENT
BEGIN:VEVENT
DTSTART;TZID=Europe/Paris:20220929T080000
DTEND;TZID=Europe/Paris:20220930T170000
DTSTAMP:20260420T205856
CREATED:20220912T091644Z
LAST-MODIFIED:20220912T091644Z
UID:62569-1664438400-1664557200@dev2.bbmri-eric.eu
SUMMARY:EATRIS-Plus workshop: Building strong partnerships between industry and academia
DESCRIPTION:Join us at the EATRIS-Plus workshop on “Building strong partnerships between industry and academia” ! The two-day workshop will take place on 29-30 September 2022 in beautiful Ljubljana\, Slovenia. \nThis EATRIS-Plus workshop on best practices in public-private collaboration has been developed within the framework of EATRIS-Plus H2020 Project\, a 4-year flagship initiative in personalised medicine\, coordinated by EATRIS ERIC. The workshop is organised by University of Ljubljana\, Faculty of Pharmacy (Slovenia)\, Biocat\, Barcelona (Spain) and EATRIS. \nThe workshop programme will offer wide variety of interesting activities including \n\nAcademia-industry collaboration lectures:\n\n11 things you need to know about industry-academia collaboration\,\nTurning deal breakers into deal makers – the legal perspective\,\nCommercial stuff you should know: IP\, licensing\, start-ups\, royalties\, negotiation and a few other things we can think of\nScience and business DO mix! Resolving issues on the way to more and better deals…\n\n\nBest practices from SMEs\, TTOs\, and SME and academic consortia;\nGroup work addressing the challenges in public-private collaboration;\nWorkshop activity on skills in negotiating a deal;\nSocial activities such as welcome dinner\, Ljubljana tour and post-workshop tour.\n\nTarget audience:  \n\nBiotech SME-based professionals\,\nPostdoctoral biomedical researchers\,\nYoung PIs\,\nProfessionals from TTO / Incubators / Industry Liaison\,\nOther professionals from pharmaceutical industry.\n\nCost: Participation is free of charge\, however participants are responsible for their own travel and accommodation costs. EATRIS members may benefit from a travel grant\, please get in touch with your national node. \nRegistration is open\, but places are limited to 30 – apply now !
URL:https://dev2.bbmri-eric.eu/events/eatris-plus-workshop-building-strong-partnerships-between-industry-and-academia/
LOCATION:University of Ljubljana\, Faculty of Pharmacy\, Askerceva 7\, Ljubljana\, Slovenia
CATEGORIES:External Events
END:VEVENT
END:VCALENDAR