BEGIN:VCALENDAR
VERSION:2.0
PRODID:-//BBMRI-ERIC - ECPv6.1.3//NONSGML v1.0//EN
CALSCALE:GREGORIAN
METHOD:PUBLISH
X-ORIGINAL-URL:https://dev2.bbmri-eric.eu
X-WR-CALDESC:Events for BBMRI-ERIC
REFRESH-INTERVAL;VALUE=DURATION:PT1H
X-Robots-Tag:noindex
X-PUBLISHED-TTL:PT1H
BEGIN:VTIMEZONE
TZID:Europe/Paris
BEGIN:DAYLIGHT
TZOFFSETFROM:+0100
TZOFFSETTO:+0200
TZNAME:CEST
DTSTART:20220327T010000
END:DAYLIGHT
BEGIN:STANDARD
TZOFFSETFROM:+0200
TZOFFSETTO:+0100
TZNAME:CET
DTSTART:20221030T010000
END:STANDARD
END:VTIMEZONE
BEGIN:VEVENT
DTSTART;VALUE=DATE:20221108
DTEND;VALUE=DATE:20221111
DTSTAMP:20260420T181512
CREATED:20220921T100702Z
LAST-MODIFIED:20220923T115102Z
UID:63027-1667865600-1668124799@dev2.bbmri-eric.eu
SUMMARY:BioTechX Congress 2022 \, 8-10 November 2022 - Congress Center Basel\, Basel\, Switzerland
DESCRIPTION:BBMRI-ERIC will be represented at BioTechX – Europe’s largest congress covering diagnostics\, precision medicine and digital transformation in pharmaceutical development and healthcare. \nBioTechX successfully brings together an amalgamation of genomics\, translational medicine\, data scientists\, IT\, bioinformaticians\, cheminformaticians\, clinicians\, healthcare and pharma companies. The event will showcase innovation\, demonstrate success and break through the obstacles and barriers to ensure that the innovations in genomics and big data\, enter the clinic with speed and efficiency. \n2022’s congress will feature 400 speakers and 2\,000+ expected attendees.
URL:https://dev2.bbmri-eric.eu/events/biotechx-congress-2022-8-10-november-2022-congress-center-basel-basel-switzerland/
LOCATION:Basel Congress Center\, Messeplatz 21\, Basel\, 4058\, Switzerland
CATEGORIES:Conference,External Events
ATTACH;FMTTYPE=image/png:https://dev2.bbmri-eric.eu/wp-content/uploads/logo600.png
END:VEVENT
BEGIN:VEVENT
DTSTART;TZID=Europe/Paris:20221115T150000
DTEND;TZID=Europe/Paris:20221115T160000
DTSTAMP:20260420T181512
CREATED:20221019T083118Z
LAST-MODIFIED:20221107T105314Z
UID:64084-1668524400-1668528000@dev2.bbmri-eric.eu
SUMMARY:Ethics of AI in Imaging: Ethical and Societal Implications
DESCRIPTION:Speakers: Melanie Goisauf and Mónica Cano Abadía (BBMRI-ERIC) \nArtificial Intelligence (AI) applications in medicine are hoped to improve healthcare and to advance health equity. While the technology carries the potential to improve health services\, the ethical and societal implications need to be carefully considered to avoid harmful consequences for individuals and groups\, especially for the most vulnerable. It is therefore inevitable to identify what types of ethical issues are raised by AI\, and to analyse how these issues are tackled in biomedical research. This webinar gives an overview of the results of a comprehensive and systematic review of academic literature as well as workshop outcomes. We will problematise approaches such as ‘trustworthy AI’ and ‘explainable AI’ that shape the ethics discourse on AI. The webinar concludes with a reflection on the topics identified that shape the understanding of ‘Ethics of AI’ and the gaps in the discourse.  \nRegister here: https://cesnet.zoom.us/webinar/register/WN_u_wq99pSTfm7Ql3PfXdnFQ \nThis webinar is funded within BIG PICTURE\, projects that have received funding from the Innovative Medicines Initiative 2 Joint Undertaking under grant agreement No 945358. 
URL:https://dev2.bbmri-eric.eu/events/ethics-of-ai-in-imaging-ethical-and-societal-implications/
LOCATION:Online
CATEGORIES:BBMRI Events,Webinar
ATTACH;FMTTYPE=image/jpeg:https://dev2.bbmri-eric.eu/wp-content/uploads/Webinar-intro-slides-e1667818388651.jpg
ORGANIZER;CN="BBMRI-ERIC":MAILTO:contact@bbmri-eric.eu
END:VEVENT
BEGIN:VEVENT
DTSTART;TZID=Europe/Paris:20221116T150000
DTEND;TZID=Europe/Paris:20221116T160000
DTSTAMP:20260420T181512
CREATED:20221013T123703Z
LAST-MODIFIED:20221021T074452Z
UID:63864-1668610800-1668614400@dev2.bbmri-eric.eu
SUMMARY:Webinar: Visualizing the Complexity of Sex Determination
DESCRIPTION:Visualizing the Complexity of Sex Determination\, with Amanda Montañez \nA new installment of the “Sex and Gender in Biomedical Research” webinar series\, will take place on Wednesday\, November 16th\, at 15h (CEST). The title of this webinar is  “Visualizing the Complexity of Sex Determination”. \nThe speaker\, Amanda Montañez\, describes her session as follows: \nAt Scientific American\, we communicate the latest and most important information about science\, health\, technology\, the environment\, and society to the public. We often use information graphics to help illuminate complex ideas that are hard to explain fully through words alone. A few years ago\, as part of a special issue on sex and gender\, I led the development of a graphic on the spectrum of biological sex\, a fascinating topic that I had not seen visualized before and turned out to be even more complex than I had imagined. In this talk I will explain the process of how the graphic was developed\, what I learned\, and how this project fits into my work as a graphics editor at Scientific American. \nRegister here: https://cesnet.zoom.us/webinar/register/WN_6lcofwfYRGmDFhOh0LDgoA \nYou can check the graphic here: https://www.scientificamerican.com/article/beyond-xx-and-xy-the-extraordinary-complexity-of-sex-determination/ \nPitch Interactive and Amanda Montañez; Source: Research by Amanda Hobbs; Expert review by Amy Wisniewski University of Oklahoma Health Sciences Center​ \n 
URL:https://dev2.bbmri-eric.eu/events/sex-and-gender-in-biomedical-research/
LOCATION:Online
CATEGORIES:Webinar
ATTACH;FMTTYPE=image/jpeg:https://dev2.bbmri-eric.eu/wp-content/uploads/ELSI_gender-webinar-exploration_website.jpg
ORGANIZER;CN="BBMRI-ERIC":MAILTO:contact@bbmri-eric.eu
END:VEVENT
END:VCALENDAR